Workbook

Sheet Group Task 2 - Data
A2: Y | B2: X1 | C2: X2 | D2: X3 | E2: X4 | F2: X5
A3: 231 | B3: 3 | C3: 294 | D3: 8.1999998 | E3: 8.1999998 | F3: 11
A4: 156 | B4: 2.2 | C4: 232 | D4: 6.9000001 | E4: 4.0999999 | F4: 12
A5: 10 | B5: 0.5 | C5: 149 | D5: 3 | E5: 4.3000002 | F5: 15
A6: 519 | B6: 5.5 | C6: 600 | D6: 12 | E6: 16.1 | F6: 1 | I6: Factors that influence retail outlet sales performance:
A7: 437 | B7: 4.4000001 | C7: 567 | D7: 10.6 | E7: 14.1 | F7: 5
A8: 487 | B8: 4.8000002 | C8: 571 | D8: 11.8 | E8: 12.7 | F8: 4 | I8: The data (X1, X2, X3, X4, X5, X6) are for each retail outlet
A9: 299 | B9: 3.0999999 | C9: 512 | D9: 8.1 | E9: 10.1 | F9: 10 | I9: Y = annual net sales/$1000
A10: 195 | B10: 2.5 | C10: 347 | D10: 7.6999998 | E10: 8.4 | F10: 12 | I10: X1 = number sq. ft./1000
A11: 20 | B11: 1.2 | C11: 212 | D11: 3.3 | E11: 2.0999999 | F11: 15 | I11: X2 = inventory/$1000
A12: 68 | B12: 0.60000002 | C12: 102 | D12: 4.9000001 | E12: 4.6999998 | F12: 8 | I12: X3 = amount spent on advertizing/$1000
A13: 570 | B13: 5.4000001 | C13: 788 | D13: 17.4 | E13: 12.3 | F13: 1 | I13: X4 = size of sales district/1000 families
A14: 428 | B14: 4.1999998 | C14: 577 | D14: 10.5 | E14: 14 | F14: 7 | I14: X5 = number of competing stores in district
A15: 464 | B15: 4.6999998 | C15: 535 | D15: 11.3 | E15: 15 | F15: 3
A16: 15 | B16: 0.60000002 | C16: 163 | D16: 2.5 | E16: 2.5 | F16: 14
A17: 65 | B17: 1.2 | C17: 168 | D17: 4.6999998 | E17: 3.3 | F17: 11
A18: 98 | B18: 1.6 | C18: 151 | D18: 4.5999999 | E18: 2.7 | F18: 10
A19: 398 | B19: 4.3000002 | C19: 342 | D19: 5.5 | E19: 16 | F19: 4
A20: 161 | B20: 2.5999999 | C20: 196 | D20: 7.1999998 | E20: 6.3000002 | F20: 13
A21: 397 | B21: 3.8 | C21: 453 | D21: 10.4 | E21: 13.9 | F21: 7
A22: 497 | B22: 5.3000002 | C22: 518 | D22: 11.5 | E22: 16.299999 | F22: 1
A23: 528 | B23: 5.5999999 | C23: 615 | D23: 12.3 | E23: 16 | F23: 0
A24: 99 | B24: 0.80000001 | C24: 278 | D24: 2.8 | E24: 6.5 | F24: 14
A25: 0.5 | B25: 1.1 | C25: 142 | D25: 3.0999999 | E25: 1.6 | F25: 12
A26: 347 | B26: 3.5999999 | C26: 461 | D26: 9.6 | E26: 11.3 | F26: 6
... A29: 400 | B29: 8.6 | C29: 517 | D29: 7 | E29: 12 | F29: 8

Sheet Group Task 2
A2: ='Group Task 2 - Data'!A2 -> Y | B2: ='Group Task 2 - Data'!B2 -> X1 | C2: ='Group Task 2 - Data'!C2 -> X2 | D2: ='Group Task 2 - Data'!D2 -> X3 | E2: ='Group Task 2 - Data'!E2 -> X4 | F2: ='Group Task 2 - Data'!F2 -> X5 | O2: SUMMARY MULTIPLE REGRESSION OUTPUT: EXCEL
A3: ='Group Task 2 - Data'!A3 -> 231 | B3: ='Group Task 2 - Data'!B3 -> 3 | C3: ='Group Task 2 - Data'!C3 -> 294 | D3: ='Group Task 2 - Data'!D3 -> 8.1999998 | E3: ='Group Task 2 - Data'!E3 -> 8.1999998 | F3: ='Group Task 2 - Data'!F3 -> 11
A4: ='Group Task 2 - Data'!A4 -> 156 | B4: ='Group Task 2 - Data'!B4 -> 2.2 | C4: ='Group Task 2 - Data'!C4 -> 232 | D4: ='Group Task 2 - Data'!D4 -> 6.9000001 | E4: ='Group Task 2 - Data'!E4 -> 4.0999999 | F4: ='Group Task 2 - Data'!F4 -> 12 | O4: Regression Statistics
A5: ='Group Task 2 - Data'!A5 -> 10 | B5: ='Group Task 2 - Data'!B5 -> 0.5 | C5: ='Group Task 2 - Data'!C5 -> 149 | D5: ='Group Task 2 - Data'!D5 -> 3 | E5: ='Group Task 2 - Data'!E5 -> 4.3000002 | F5: ='Group Task 2 - Data'!F5 -> 15 | O5: Multiple R | P5: 0.99658391
A6: ='Group Task 2 - Data'!A6 -> 519 | B6: ='Group Task 2 - Data'!B6 -> 5.5 | C6: ='Group Task 2 - Data'!C6 -> 600 | D6: ='Group Task 2 - Data'!D6 -> 12 | E6: ='Group Task 2 - Data'!E6 -> 16.1 | F6: ='Group Task 2 - Data'!F6 -> 1 | I6: Factors that influence retail outlet sales performance: | O6: R Square | P6: 0.9931795
A7: ='Group Task 2 - Data'!A7 -> 437 | B7: ='Group Task 2 - Data'!B7 -> 4.4000001 | C7: ='Group Task 2 - Data'!C7 -> 567 | D7: ='Group Task 2 - Data'!D7 -> 10.6 | E7: ='Group Task 2 - Data'!E7 -> 14.1 | F7: ='Group Task 2 - Data'!F7 -> 5 | O7: Adjusted R Square | P7: 0.99155557
A8: ='Group Task 2 - Data'!A8 -> 487 | B8: ='Group Task 2 - Data'!B8 -> 4.8000002 | C8: ='Group Task 2 - Data'!C8 -> 571 | D8: ='Group Task 2 - Data'!D8 -> 11.8 | E8: ='Group Task 2 - Data'!E8 -> 12.7 | F8: ='Group Task 2 - Data'!F8 -> 4 | I8: The data (X1, X2, X3, X4, X5, X6) are for each retail outlet | O8: Standard Error | P8: 17.649242
A9: ='Group Task 2 - Data'!A9 -> 299 | B9: ='Group Task 2 - Data'!B9 -> 3.0999999 | C9: ='Group Task 2 - Data'!C9 -> 512 | D9: ='Group Task 2 - Data'!D9 -> 8.1 | E9: ='Group Task 2 - Data'!E9 -> 10.1 | F9: ='Group Task 2 - Data'!F9 -> 10 | I9: Y = annual net sales/$1000 | O9: Observations | P9: 27
A10: ='Group Task 2 - Data'!A10 -> 195 | B10: ='Group Task 2 - Data'!B10 -> 2.5 | C10: ='Group Task 2 - Data'!C10 -> 347 | D10: ='Group Task 2 - Data'!D10 -> 7.6999998 | E10: ='Group Task 2 - Data'!E10 -> 8.4 | F10: ='Group Task 2 - Data'!F10 -> 12 | I10: X1 = number sq. ft./1000
A11: ='Group Task 2 - Data'!A11 -> 20 | B11: ='Group Task 2 - Data'!B11 -> 1.2 | C11: ='Group Task 2 - Data'!C11 -> 212 | D11: ='Group Task 2 - Data'!D11 -> 3.3 | E11: ='Group Task 2 - Data'!E11 -> 2.0999999 | F11: ='Group Task 2 - Data'!F11 -> 15 | I11: X2 = inventory/$1000 | O11: ANOVA
A12: ='Group Task 2 - Data'!A12 -> 68 | B12: ='Group Task 2 - Data'!B12 -> 0.60000002 | C12: ='Group Task 2 - Data'!C12 -> 102 | D12: ='Group Task 2 - Data'!D12 -> 4.9000001 | E12: ='Group Task 2 - Data'!E12 -> 4.6999998 | F12: ='Group Task 2 - Data'!F12 -> 8 | I12: X3 = amount spent on advertizing/$1000 | P12: df | Q12: SS | R12: MS | S12: F | T12: Significance F
A13: ='Group Task 2 - Data'!A13 -> 570 | B13: ='Group Task 2 - Data'!B13 -> 5.4000001 | C13: ='Group Task 2 - Data'!C13 -> 788 | D13: ='Group Task 2 - Data'!D13 -> 17.4 | E13: ='Group Task 2 - Data'!E13 -> 12.3 | F13: ='Group Task 2 - Data'!F13 -> 1 | I13: X4 = size of sales district/1000 families | O13: Regression | P13: 5 | Q13: 952538.94 | R13: 190507.79 | S13: 611.59037 | T13: 5.3973132e-22
A14: ='Group Task 2 - Data'!A14 -> 428 | B14: ='Group Task 2 - Data'!B14 -> 4.1999998 | C14: ='Group Task 2 - Data'!C14 -> 577 | D14: ='Group Task 2 - Data'!D14 -> 10.5 | E14: ='Group Task 2 - Data'!E14 -> 14 | F14: ='Group Task 2 - Data'!F14 -> 7 | I14: X5 = number of competing stores in district | O14: Residual | P14: 21 | Q14: 6541.4103 | R14: 311.49573
A15: ='Group Task 2 - Data'!A15 -> 464 | B15: ='Group Task 2 - Data'!B15 -> 4.6999998 | C15: ='Group Task 2 - Data'!C15 -> 535 | D15: ='Group Task 2 - Data'!D15 -> 11.3 | E15: ='Group Task 2 - Data'!E15 -> 15 | F15: ='Group Task 2 - Data'!F15 -> 3 | O15: Total | P15: 26 | Q15: 959080.35
A16: ='Group Task 2 - Data'!A16 -> 15 | B16: ='Group Task 2 - Data'!B16 -> 0.60000002 | C16: ='Group Task 2 - Data'!C16 -> 163 | D16: ='Group Task 2 - Data'!D16 -> 2.5 | E16: ='Group Task 2 - Data'!E16 -> 2.5 | F16: ='Group Task 2 - Data'!F16 -> 14
A17: ='Group Task 2 - Data'!A17 -> 65 | B17: ='Group Task 2 - Data'!B17 -> 1.2 | C17: ='Group Task 2 - Data'!C17 -> 168 | D17: ='Group Task 2 - Data'!D17 -> 4.6999998 | E17: ='Group Task 2 - Data'!E17 -> 3.3 | F17: ='Group Task 2 - Data'!F17 -> 11 | P17: Coefficients | Q17: Standard Error | R17: t Stat | S17: P-value | T17: Lower 95% | U17: Upper 95% | V17: Lower 95.0% | W17: Upper 95.0%
A18: ='Group Task 2 - Data'!A18 -> 98 | B18: ='Group Task 2 - Data'!B18 -> 1.6 | C18: ='Group Task 2 - Data'!C18 -> 151 | D18: ='Group Task 2 - Data'!D18 -> 4.5999999 | E18: ='Group Task 2 - Data'!E18 -> 2.7 | F18: ='Group Task 2 - Data'!F18 -> 10 | O18: Intercept | P18: -18.859414 | Q18: 30.150228 | R18: -0.62551481 | S18: 0.53837233 | T18: -81.560246 | U18: 43.841417 | V18: -81.560246 | W18: 43.841417
A19: ='Group Task 2 - Data'!A19 -> 398 | B19: ='Group Task 2 - Data'!B19 -> 4.3000002 | C19: ='Group Task 2 - Data'!C19 -> 342 | D19: ='Group Task 2 - Data'!D19 -> 5.5 | E19: ='Group Task 2 - Data'!E19 -> 16 | F19: ='Group Task 2 - Data'!F19 -> 4 | O19: X1 | P19: 16.201574 | Q19: 3.5444373 | R19: 4.5709861 | S19: 0.00016598458 | T19: 8.8305127 | U19: 23.572634 | V19: 8.8305127 | W19: 23.572634
A20: ='Group Task 2 - Data'!A20 -> 161 | B20: ='Group Task 2 - Data'!B20 -> 2.5999999 | C20: ='Group Task 2 - Data'!C20 -> 196 | D20: ='Group Task 2 - Data'!D20 -> 7.1999998 | E20: ='Group Task 2 - Data'!E20 -> 6.3000002 | F20: ='Group Task 2 - Data'!F20 -> 13 | O20: X2 | P20: 0.17463515 | Q20: 0.057606068 | R20: 3.031541 | S20: 0.0063467927 | T20: 0.054836778 | U20: 0.29443353 | V20: 0.054836778 | W20: 0.29443353
A21: ='Group Task 2 - Data'!A21 -> 397 | B21: ='Group Task 2 - Data'!B21 -> 3.8 | C21: ='Group Task 2 - Data'!C21 -> 453 | D21: ='Group Task 2 - Data'!D21 -> 10.4 | E21: ='Group Task 2 - Data'!E21 -> 13.9 | F21: ='Group Task 2 - Data'!F21 -> 7 | O21: X3 | P21: 11.526269 | Q21: 2.5321033 | R21: 4.5520532 | S21: 0.00017365193 | T21: 6.260472 | U21: 16.792066 | V21: 6.260472 | W21: 16.792066
A22: ='Group Task 2 - Data'!A22 -> 497 | B22: ='Group Task 2 - Data'!B22 -> 5.3000002 | C22: ='Group Task 2 - Data'!C22 -> 518 | D22: ='Group Task 2 - Data'!D22 -> 11.5 | E22: ='Group Task 2 - Data'!E22 -> 16.299999 | F22: ='Group Task 2 - Data'!F22 -> 1 | O22: X4 | P22: 13.580313 | Q22: 1.7704566 | R22: 7.6705144 | S22: 1.6054341e-07 | T22: 9.8984468 | U22: 17.262179 | V22: 9.8984468 | W22: 17.262179
A23: ='Group Task 2 - Data'!A23 -> 528 | B23: ='Group Task 2 - Data'!B23 -> 5.5999999 | C23: ='Group Task 2 - Data'!C23 -> 615 | D23: ='Group Task 2 - Data'!D23 -> 12.3 | E23: ='Group Task 2 - Data'!E23 -> 16 | F23: ='Group Task 2 - Data'!F23 -> 0 | O23: X5 | P23: -5.3109714 | Q23: 1.7054265 | R23: -3.1141602 | S23: 0.0052488727 | T23: -8.8576001 | U23: -1.7643428 | V23: -8.8576001 | W23: -1.7643428
A24: ='Group Task 2 - Data'!A24 -> 99 | B24: ='Group Task 2 - Data'!B24 -> 0.80000001 | C24: ='Group Task 2 - Data'!C24 -> 278 | D24: ='Group Task 2 - Data'!D24 -> 2.8 | E24: ='Group Task 2 - Data'!E24 -> 6.5 | F24: ='Group Task 2 - Data'!F24 -> 14 | O24: Apart from the intercept term, the p-values show that all the other variables have a significant influence on annual net sales.
A25: ='Group Task 2 - Data'!A25 -> 0.5 | B25: ='Group Task 2 - Data'!B25 -> 1.1 | C25: ='Group Task 2 - Data'!C25 -> 142 | D25: ='Group Task 2 - Data'!D25 -> 3.0999999 | E25: ='Group Task 2 - Data'!E25 -> 1.6 | F25: ='Group Task 2 - Data'!F25 -> 12
A26: ='Group Task 2 - Data'!A26 -> 347 | B26: ='Group Task 2 - Data'!B26 -> 3.5999999 | C26: ='Group Task 2 - Data'!C26 -> 461 | D26: ='Group Task 2 - Data'!D26 -> 9.6 | E26: ='Group Task 2 - Data'!E26 -> 11.3 | F26: ='Group Task 2 - Data'!F26 -> 6 | O26: CORRELATION MATRIX - EVIEWS
A27: ='Group Task 2 - Data'!A27 -> 341 | B27: ='Group Task 2 - Data'!B27 -> 3.5 | C27: ='Group Task 2 - Data'!C27 -> 382 | D27: ='Group Task 2 - Data'!D27 -> 9.8000002 | E27: ='Group Task 2 - Data'!E27 -> 11.5 | F27: ='Group Task 2 - Data'!F27 -> 5
A28: ='Group Task 2 - Data'!A28 -> 507 | B28: ='Group Task 2 - Data'!B28 -> 5.0999999 | C28: ='Group Task 2 - Data'!C28 -> 590 | D28: ='Group Task 2 - Data'!D28 -> 12 | E28: ='Group Task 2 - Data'!E28 -> 15.7 | F28: ='Group Task 2 - Data'!F28 -> 0 | P28: X1 | Q28: X2 | R28: X3 | S28: X4 | T28: X5
A29: ='Group Task 2 - Data'!A29 -> 400 | B29: ='Group Task 2 - Data'!B29 -> 8.6 | C29: ='Group Task 2 - Data'!C29 -> 517 | D29: ='Group Task 2 - Data'!D29 -> 7 | E29: ='Group Task 2 - Data'!E29 -> 12 | F29: ='Group Task 2 - Data'!F29 -> 8 | O29: X1 | P29: 1
O30: X2 | P30: 0.84361578 | Q30: 1
O31: X3 | P31: 0.74858724 | Q31: 0.90623065 | R31: 1
O32: X4 | P32: 0.83802288 | Q32: 0.86391692 | R32: 0.79543446 | S32: 1
O33: X5 | P33: -0.76573779 | Q33: -0.80738042 | R33: -0.84127995 | S33: -0.86958961 | T33: 1
O35: Most of the independent variables are highly correlated, pointing to the presence of multicollinearity.
O38: SUMMARY MULTIPLE REGRESSION OUTPUT: EVIEWS
O60: CORRELATION MATRIX - EVIEWS
O73: Heteroskedasticity Test - Eviews
