Workbook

Sheet Group Task 1 - Data
A2: YEAR | B2: FOREIGN (Y) | C2: CRUDE | D2: INTEREST | E2: DJIA | F2: GNP | G2: PURCHASE | H2: CONSUMER
A3: 1976 | B3: 31 | C3: 10.9 | D3: 7.61 | E3: 974.9 | F3: 1718 | G3: 1.757 | H3: 234.4
A4: 1977 | B4: 35 | C4: 12 | D4: 7.42 | E4: 894.6 | F4: 1918 | G4: 1.649 | H4: 263.8
A5: 1978 | B5: 42 | C5: 12.5 | D5: 8.41 | E5: 820.2 | F5: 2164 | G5: 1.532 | H5: 308.3
A6: 1979 | B6: 54 | C6: 17.7 | D6: 9.439999 | E6: 844.4 | F6: 2418 | G6: 1.38 | H6: 347.5
A7: 1980 | B7: 83 | C7: 28.1 | D7: 11.46 | E7: 891.4 | F7: 2732 | G7: 1.215 | H7: 349.4 | K7: U.S.. economic data 1976 to 1987
A8: 1981 | B8: 109 | C8: 35.6 | D8: 13.91 | E8: 932.9 | F8: 3053 | G8: 1.098 | H8: 366.6 | K8: CRUDE = dollars/barrel crude oil
A9: 1982 | B9: 125 | C9: 31.8 | D9: 13 | E9: 884.4 | F9: 3166 | G9: 1.035 | H9: 381.1 | K9: INTEREST = % interest on ten yr. U.S. treasury notes
A10: 1983 | B10: 137 | C10: 29 | D10: 11.11 | E10: 1190.3 | F10: 3406 | G10: 1 | H10: 430.4 | K10: FOREIGN = foreign investments in properties/billions of dollars
A11: 1984 | B11: 165 | C11: 28.6 | D11: 12.44 | E11: 1178.5 | F11: 3772 | G11: 0.961 | H11: 511.8 | K11: DOW JONES INDUSTRIAL AVERAGE = Dow Jones industrial average
A12: 1985 | B12: 185 | C12: 26.8 | D12: 10.62 | E12: 1328.2 | F12: 4015 | G12: 0.928 | H12: 592.4 | K12: GNP = GNP/billions of dollars
A13: 1986 | B13: 209 | C13: 14.6 | D13: 7.68 | E13: 1792.8 | F13: 4240 | G13: 0.913 | H13: 646.1 | K13: PURCHASE = purchasing power U.S. dollar (1983 base)
A14: 1987 | B14: 244 | C14: 17.9 | D14: 8.38 | E14: 2276 | F14: 4527 | G14: 0.88 | H14: 685.5 | K14: CONSUMER DEBT = consumer debt/billions of dollars
K15: Reference: Statistical Abstract of the United States 103rd and 109th ediiton

Sheet Group Task 1
A2: ='Group Task 1 - Data'!A2 -> YEAR | B2: ='Group Task 1 - Data'!B2 -> FOREIGN (Y) | C2: ='Group Task 1 - Data'!C2 -> CRUDE | D2: ='Group Task 1 - Data'!D2 -> INTEREST | E2: ='Group Task 1 - Data'!E2 -> DJIA | F2: ='Group Task 1 - Data'!F2 -> GNP | G2: ='Group Task 1 - Data'!G2 -> PURCHASE | H2: ='Group Task 1 - Data'!H2 -> CONSUMER | J2: ŷ = α + βx | K2: y-ŷ | M2: y-y̅ | N2: (y-y̅)² | P2: ŷ-E(ŷ) | Q2: [ŷ-E(ŷ)]2 | U2: SUMMARY OUTPUT
A3: ='Group Task 1 - Data'!A3 -> 1976 | B3: ='Group Task 1 - Data'!B3 -> 31 | C3: ='Group Task 1 - Data'!C3 -> 10.9 | D3: ='Group Task 1 - Data'!D3 -> 7.61 | E3: ='Group Task 1 - Data'!E3 -> 974.9 | F3: ='Group Task 1 - Data'!F3 -> 1718 | G3: ='Group Task 1 - Data'!G3 -> 1.757 | H3: ='Group Task 1 - Data'!H3 -> 234.4 | J3: =V$18+$V$19*C3+$V$20*D3+$V$21*E3+$V$22*F3+$V$23*G3+$V$24*H3 -> 27.702525 | K3: =B3-J3 -> 3.2974752 | M3: =B3-$B$18 -> -87.25 | N3: =M3^2 -> 7612.5625 | P3: =J3-$J$18 -> -90.547475 | Q3: =P3^2 -> 8198.8453
A4: ='Group Task 1 - Data'!A4 -> 1977 | B4: ='Group Task 1 - Data'!B4 -> 35 | C4: ='Group Task 1 - Data'!C4 -> 12 | D4: ='Group Task 1 - Data'!D4 -> 7.42 | E4: ='Group Task 1 - Data'!E4 -> 894.6 | F4: ='Group Task 1 - Data'!F4 -> 1918 | G4: ='Group Task 1 - Data'!G4 -> 1.649 | H4: ='Group Task 1 - Data'!H4 -> 263.8 | J4: =V$18+$V$19*C4+$V$20*D4+$V$21*E4+$V$22*F4+$V$23*G4+$V$24*H4 -> 36.076529 | K4: =B4-J4 -> -1.0765288 | M4: =B4-$B$18 -> -83.25 | N4: =M4^2 -> 6930.5625 | P4: =J4-$J$18 -> -82.173471 | Q4: =P4^2 -> 6752.4794 | U4: Regression Statistics
A5: ='Group Task 1 - Data'!A5 -> 1978 | B5: ='Group Task 1 - Data'!B5 -> 42 | C5: ='Group Task 1 - Data'!C5 -> 12.5 | D5: ='Group Task 1 - Data'!D5 -> 8.41 | E5: ='Group Task 1 - Data'!E5 -> 820.2 | F5: ='Group Task 1 - Data'!F5 -> 2164 | G5: ='Group Task 1 - Data'!G5 -> 1.532 | H5: ='Group Task 1 - Data'!H5 -> 308.3 | J5: =V$18+$V$19*C5+$V$20*D5+$V$21*E5+$V$22*F5+$V$23*G5+$V$24*H5 -> 45.019357 | K5: =B5-J5 -> -3.0193572 | M5: =B5-$B$18 -> -76.25 | N5: =M5^2 -> 5814.0625 | P5: =J5-$J$18 -> -73.230643 | Q5: =P5^2 -> 5362.727 | U5: Multiple R | V5: 0.99883046
A6: ='Group Task 1 - Data'!A6 -> 1979 | B6: ='Group Task 1 - Data'!B6 -> 54 | C6: ='Group Task 1 - Data'!C6 -> 17.7 | D6: ='Group Task 1 - Data'!D6 -> 9.439999 | E6: ='Group Task 1 - Data'!E6 -> 844.4 | F6: ='Group Task 1 - Data'!F6 -> 2418 | G6: ='Group Task 1 - Data'!G6 -> 1.38 | H6: ='Group Task 1 - Data'!H6 -> 347.5 | J6: =V$18+$V$19*C6+$V$20*D6+$V$21*E6+$V$22*F6+$V$23*G6+$V$24*H6 -> 54.561328 | K6: =B6-J6 -> -0.56132845 | M6: =B6-$B$18 -> -64.25 | N6: =M6^2 -> 4128.0625 | P6: =J6-$J$18 -> -63.688672 | Q6: =P6^2 -> 4056.2469 | U6: R Square | V6: 0.99766229
A7: ='Group Task 1 - Data'!A7 -> 1980 | B7: ='Group Task 1 - Data'!B7 -> 83 | C7: ='Group Task 1 - Data'!C7 -> 28.1 | D7: ='Group Task 1 - Data'!D7 -> 11.46 | E7: ='Group Task 1 - Data'!E7 -> 891.4 | F7: ='Group Task 1 - Data'!F7 -> 2732 | G7: ='Group Task 1 - Data'!G7 -> 1.215 | H7: ='Group Task 1 - Data'!H7 -> 349.4 | J7: =V$18+$V$19*C7+$V$20*D7+$V$21*E7+$V$22*F7+$V$23*G7+$V$24*H7 -> 82.34312 | K7: =B7-J7 -> 0.65687979 | M7: =B7-$B$18 -> -35.25 | N7: =M7^2 -> 1242.5625 | P7: =J7-$J$18 -> -35.90688 | Q7: =P7^2 -> 1289.304 | U7: Adjusted R Square | V7: 0.99485704
A8: ='Group Task 1 - Data'!A8 -> 1981 | B8: ='Group Task 1 - Data'!B8 -> 109 | C8: ='Group Task 1 - Data'!C8 -> 35.6 | D8: ='Group Task 1 - Data'!D8 -> 13.91 | E8: ='Group Task 1 - Data'!E8 -> 932.9 | F8: ='Group Task 1 - Data'!F8 -> 3053 | G8: ='Group Task 1 - Data'!G8 -> 1.098 | H8: ='Group Task 1 - Data'!H8 -> 366.6 | J8: =V$18+$V$19*C8+$V$20*D8+$V$21*E8+$V$22*F8+$V$23*G8+$V$24*H8 -> 111.80684 | K8: =B8-J8 -> -2.8068373 | M8: =B8-$B$18 -> -9.25 | N8: =M8^2 -> 85.5625 | P8: =J8-$J$18 -> -6.4431627 | Q8: =P8^2 -> 41.514346 | U8: Standard Error | V8: 5.157833
A9: ='Group Task 1 - Data'!A9 -> 1982 | B9: ='Group Task 1 - Data'!B9 -> 125 | C9: ='Group Task 1 - Data'!C9 -> 31.8 | D9: ='Group Task 1 - Data'!D9 -> 13 | E9: ='Group Task 1 - Data'!E9 -> 884.4 | F9: ='Group Task 1 - Data'!F9 -> 3166 | G9: ='Group Task 1 - Data'!G9 -> 1.035 | H9: ='Group Task 1 - Data'!H9 -> 381.1 | J9: =V$18+$V$19*C9+$V$20*D9+$V$21*E9+$V$22*F9+$V$23*G9+$V$24*H9 -> 116.93195 | K9: =B9-J9 -> 8.0680496 | M9: =B9-$B$18 -> 6.75 | N9: =M9^2 -> 45.5625 | P9: =J9-$J$18 -> -1.3180496 | Q9: =P9^2 -> 1.7372546 | U9: Observations | V9: 12
A10: ='Group Task 1 - Data'!A10 -> 1983 | B10: ='Group Task 1 - Data'!B10 -> 137 | C10: ='Group Task 1 - Data'!C10 -> 29 | D10: ='Group Task 1 - Data'!D10 -> 11.11 | E10: ='Group Task 1 - Data'!E10 -> 1190.3 | F10: ='Group Task 1 - Data'!F10 -> 3406 | G10: ='Group Task 1 - Data'!G10 -> 1 | H10: ='Group Task 1 - Data'!H10 -> 430.4 | J10: =V$18+$V$19*C10+$V$20*D10+$V$21*E10+$V$22*F10+$V$23*G10+$V$24*H10 -> 141.49626 | K10: =B10-J10 -> -4.4962601 | M10: =B10-$B$18 -> 18.75 | N10: =M10^2 -> 351.5625 | P10: =J10-$J$18 -> 23.24626 | Q10: =P10^2 -> 540.38861
A11: ='Group Task 1 - Data'!A11 -> 1984 | B11: ='Group Task 1 - Data'!B11 -> 165 | C11: ='Group Task 1 - Data'!C11 -> 28.6 | D11: ='Group Task 1 - Data'!D11 -> 12.44 | E11: ='Group Task 1 - Data'!E11 -> 1178.5 | F11: ='Group Task 1 - Data'!F11 -> 3772 | G11: ='Group Task 1 - Data'!G11 -> 0.961 | H11: ='Group Task 1 - Data'!H11 -> 511.8 | J11: =V$18+$V$19*C11+$V$20*D11+$V$21*E11+$V$22*F11+$V$23*G11+$V$24*H11 -> 168.41262 | K11: =B11-J11 -> -3.4126221 | M11: =B11-$B$18 -> 46.75 | N11: =M11^2 -> 2185.5625 | P11: =J11-$J$18 -> 50.162622 | Q11: =P11^2 -> 2516.2887 | U11: ANOVA
A12: ='Group Task 1 - Data'!A12 -> 1985 | B12: ='Group Task 1 - Data'!B12 -> 185 | C12: ='Group Task 1 - Data'!C12 -> 26.8 | D12: ='Group Task 1 - Data'!D12 -> 10.62 | E12: ='Group Task 1 - Data'!E12 -> 1328.2 | F12: ='Group Task 1 - Data'!F12 -> 4015 | G12: ='Group Task 1 - Data'!G12 -> 0.928 | H12: ='Group Task 1 - Data'!H12 -> 592.4 | J12: =V$18+$V$19*C12+$V$20*D12+$V$21*E12+$V$22*F12+$V$23*G12+$V$24*H12 -> 182.6771 | K12: =B12-J12 -> 2.3228965 | M12: =B12-$B$18 -> 66.75 | N12: =M12^2 -> 4455.5625 | P12: =J12-$J$18 -> 64.427103 | Q12: =P12^2 -> 4150.8517 | V12: df | W12: SS | X12: MS | Y12: F | Z12: Significance F
A13: ='Group Task 1 - Data'!A13 -> 1986 | B13: ='Group Task 1 - Data'!B13 -> 209 | C13: ='Group Task 1 - Data'!C13 -> 14.6 | D13: ='Group Task 1 - Data'!D13 -> 7.68 | E13: ='Group Task 1 - Data'!E13 -> 1792.8 | F13: ='Group Task 1 - Data'!F13 -> 4240 | G13: ='Group Task 1 - Data'!G13 -> 0.913 | H13: ='Group Task 1 - Data'!H13 -> 646.1 | J13: =V$18+$V$19*C13+$V$20*D13+$V$21*E13+$V$22*F13+$V$23*G13+$V$24*H13 -> 208.06022 | K13: =B13-J13 -> 0.93977756 | M13: =B13-$B$18 -> 90.75 | N13: =M13^2 -> 8235.5625 | P13: =J13-$J$18 -> 89.810222 | Q13: =P13^2 -> 8065.8761 | U13: Regression | V13: 6 | W13: 56767.234 | X13: 9461.2056 | Y13: 355.64108 | Z13: 2.0738392e-06
A14: ='Group Task 1 - Data'!A14 -> 1987 | B14: ='Group Task 1 - Data'!B14 -> 244 | C14: ='Group Task 1 - Data'!C14 -> 17.9 | D14: ='Group Task 1 - Data'!D14 -> 8.38 | E14: ='Group Task 1 - Data'!E14 -> 2276 | F14: ='Group Task 1 - Data'!F14 -> 4527 | G14: ='Group Task 1 - Data'!G14 -> 0.88 | H14: ='Group Task 1 - Data'!H14 -> 685.5 | J14: =V$18+$V$19*C14+$V$20*D14+$V$21*E14+$V$22*F14+$V$23*G14+$V$24*H14 -> 243.91214 | K14: =B14-J14 -> 0.087855256 | M14: =B14-$B$18 -> 125.75 | N14: =M14^2 -> 15813.062 | P14: =J14-$J$18 -> 125.66214 | Q14: =P14^2 -> 15790.975 | U14: Residual | V14: 5 | W14: 133.01621 | X14: 26.603242
U15: Total | V15: 11 | W15: 56900.25
A17: Sum = | B17: =SUM(B3:B14) -> 1419 | C17: =SUM(C3:C14) -> 265.5 | D17: =SUM(D3:D14) -> 121.48 | E17: =SUM(E3:E14) -> 14008.6 | F17: =SUM(F3:F14) -> 37129 | G17: =SUM(G3:G14) -> 14.348 | H17: =SUM(H3:H14) -> 5117.3 | J17: =SUM(J3:J14) -> 1419 | K17: =SUM(K3:K14) -> 3.126388e-13 | M17: =SUM(M3:M14) -> 0 | N17: =SUM(N3:N14) -> 56900.25 | P17: =SUM(P3:P14) -> -1.7053026e-13 | Q17: =SUM(Q3:Q14) -> 56767.234 | V17: Coefficients | W17: Standard Error | X17: t Stat | Y17: P-value | Z17: Lower 95% | AA17: Upper 95% | AB17: Lower 95.0% | AC17: Upper 95.0%
A18: Average = | B18: =AVERAGE(B3:B14) -> 118.25 | C18: =AVERAGE(C3:C14) -> 22.125 | D18: =AVERAGE(D3:D14) -> 10.123333 | E18: =AVERAGE(E3:E14) -> 1167.3833 | F18: =AVERAGE(F3:F14) -> 3094.0833 | G18: =AVERAGE(G3:G14) -> 1.1956667 | H18: =AVERAGE(H3:H14) -> 426.44167 | J18: =AVERAGE(J3:J14) -> 118.25 | K18: =AVERAGE(K3:K14) -> 2.6053234e-14 | M18: =AVERAGE(M3:M14) -> 0 | N18: =AVERAGE(N3:N14) -> 4741.6875 | P18: =AVERAGE(P3:P14) -> -1.4210855e-14 | Q18: =AVERAGE(Q3:Q14) -> 4730.6028 | U18: Intercept | V18: -392.12826 | W18: 115.96397 | X18: -3.3814664 | Y18: 0.019642807 | Z18: -690.22313 | AA18: -94.033388 | AB18: -690.22313 | AC18: -94.033388
A19: Total sum of squares | B19: =N17 -> 56900.25 | U19: CRUDE | V19: 0.15449779 | W19: 1.108344 | X19: 0.13939516 | Y19: 0.8945787 | Z19: -2.6945912 | AA19: 3.0035868 | AB19: -2.6945912 | AC19: 3.0035868
A20: Residual sum of squares | B20: =Q17 -> 56767.234 | U20: INTEREST | V20: -0.96268679 | W20: 3.8388824 | X20: -0.25077267 | Y20: 0.81196903 | Z20: -10.830848 | AA20: 8.9054745 | AB20: -10.830848 | AC20: 8.9054745
U21: DJIA | V21: 0.014832228 | W21: 0.014612963 | X21: 1.0150048 | Y21: 0.35667432 | Z21: -0.022731589 | AA21: 0.052396045 | AB21: -0.022731589 | AC21: 0.052396045
U22: GNP | V22: 0.15299198 | W22: 0.036540162 | X22: 4.1869542 | Y22: 0.0085970258 | Z22: 0.059062508 | AA22: 0.24692146 | AB22: 0.059062508 | AC22: 0.24692146
A23: R2 | B23: =B20/B19 -> 0.99766229 | U23: PURCHASE | V23: 121.72385 | W23: 52.689123 | X23: 2.3102272 | Y23: 0.068887738 | Z23: -13.717855 | AA23: 257.16555 | AB23: -13.717855 | AC23: 257.16555
A24: Multiple R | B24: =B23^0.5 -> 0.99883046 | U24: CONSUMER | V24: -0.28027373 | W24: 0.13325854 | X24: -2.1032328 | Y24: 0.089385845 | Z24: -0.6228257 | AA24: 0.062278248 | AB24: -0.6228257 | AC24: 0.062278248 | AD24: The results show that GNP, PURCHASE and CONSUMER have a statistically significant effect on foreign investments.
A25: n | B25: =COUNT(B3:B14) -> 12
A26: k | B26: =COUNT(C14:H14) -> 6
A27: 1-R2 | B27: =1-B23 -> 0.0023377087
A28: n-1 | B28: =B25-1 -> 11 | U28: RESIDUAL OUTPUT
A29: n-k-1 | B29: =B25-B26-1 -> 5
A30: Adjusted R2 | B30: =1-(B27*B28)/B29 -> 0.99485704 | U30: Observation | V30: Predicted FOREIGN (Y) | W30: Residuals
U31: 1 | V31: 27.702525 | W31: 3.2974752
U32: 2 | V32: 36.076529 | W32: -1.0765288
U33: 3 | V33: 45.019357 | W33: -3.0193572
U34: 4 | V34: 54.561328 | W34: -0.56132845
U35: 5 | V35: 82.34312 | W35: 0.65687979
U36: 6 | V36: 111.80684 | W36: -2.8068373
U37: 7 | V37: 116.93195 | W37: 8.0680496
U38: 8 | V38: 141.49626 | W38: -4.4962601
U39: 9 | V39: 168.41262 | W39: -3.4126221
U40: 10 | V40: 182.6771 | W40: 2.3228965
U41: 11 | V41: 208.06022 | W41: 0.93977756
U42: 12 | V42: 243.91214 | W42: 0.087855256
...
