Workbook

Sheet Example 3 - Data
B2: Date | C2: SA_CPI (x) | D2: SA_HPI (y)
B3: 40543 | C3: 4.0897299 | D3: 3.1
B4: 40908 | C4: 4.999267 | D4: 4.4
B5: 41274 | C5: 5.7246579 | D5: 5.8
B6: 41639 | C6: 5.7844691 | D6: 7.7
B7: 42004 | C7: 6.1298377 | D7: 6.2
B8: 42369 | C8: 4.5406423 | D8: 6.3
B9: 42735 | C9: 6.5713964 | D9: 4.8
B10: 43100 | C10: 5.1842466 | D10: 3.8
B11: 43830 | C11: 4.1202459 | D11: 3

Sheet Example 3 - SLR
K1: Estimated Prices | L1: Residuals
C2: ='Example 3 - Data'!C2 -> SA_CPI (x) | D2: ='Example 3 - Data'!D2 -> SA_HPI (y) | E2: x-x̅ | F2: y-y̅ | G2: (x-x̅)(y-y̅) | H2: (x-x̅)² | I2: (y-y̅)² | K2: ŷ = α + βx | L2: y-ŷ
C3: ='Example 3 - Data'!C3 -> 4.0897299 | D3: ='Example 3 - Data'!D3 -> 3.1 | E3: =C3-$C$14 -> -1.1485471 | F3: =D3-$D$14 -> -1.9111111 | G3: =E3*F3 -> 2.1950011 | H3: =E3^2 -> 1.3191604 | I3: =F3^2 -> 3.6523457 | K3: =$C$105+$C$74*C3 -> 3.8323284 | L3: =D3-K3 -> -0.73232837
C4: ='Example 3 - Data'!C4 -> 4.999267 | D4: ='Example 3 - Data'!D4 -> 4.4 | E4: =C4-$C$14 -> -0.23901001 | F4: =D4-$D$14 -> -0.61111111 | G4: =E4*F4 -> 0.14606167 | H4: =E4^2 -> 0.057125784 | I4: =F4^2 -> 0.37345679 | K4: =$C$105+$C$74*C4 -> 4.7658091 | L4: =D4-K4 -> -0.36580913
C5: ='Example 3 - Data'!C5 -> 5.7246579 | D5: ='Example 3 - Data'!D5 -> 5.8 | E5: =C5-$C$14 -> 0.48638094 | F5: =D5-$D$14 -> 0.78888889 | G5: =E5*F5 -> 0.38370052 | H5: =E5^2 -> 0.23656642 | I5: =F5^2 -> 0.62234568 | K5: =$C$105+$C$74*C5 -> 5.5102961 | L5: =D5-K5 -> 0.2897039
C6: ='Example 3 - Data'!C6 -> 5.7844691 | D6: ='Example 3 - Data'!D6 -> 7.7 | E6: =C6-$C$14 -> 0.54619212 | F6: =D6-$D$14 -> 2.6888889 | G6: =E6*F6 -> 1.4686499 | H6: =E6^2 -> 0.29832583 | I6: =F6^2 -> 7.2301235 | K6: =$C$105+$C$74*C6 -> 5.5716818 | L6: =D6-K6 -> 2.1283182
C7: ='Example 3 - Data'!C7 -> 6.1298377 | D7: ='Example 3 - Data'!D7 -> 6.2 | E7: =C7-$C$14 -> 0.89156073 | F7: =D7-$D$14 -> 1.1888889 | G7: =E7*F7 -> 1.0599666 | H7: =E7^2 -> 0.79488053 | I7: =F7^2 -> 1.4134568 | K7: =$C$105+$C$74*C7 -> 5.9261423 | L7: =D7-K7 -> 0.27385771
C8: ='Example 3 - Data'!C8 -> 4.5406423 | D8: ='Example 3 - Data'!D8 -> 6.3 | E8: =C8-$C$14 -> -0.6976347 | F8: =D8-$D$14 -> 1.2888889 | G8: =E8*F8 -> -0.89917361 | H8: =E8^2 -> 0.48669417 | I8: =F8^2 -> 1.6612346 | K8: =$C$105+$C$74*C8 -> 4.2951111 | L8: =D8-K8 -> 2.0048889
C9: ='Example 3 - Data'!C9 -> 6.5713964 | D9: ='Example 3 - Data'!D9 -> 4.8 | E9: =C9-$C$14 -> 1.3331194 | F9: =D9-$D$14 -> -0.21111111 | G9: =E9*F9 -> -0.28143633 | H9: =E9^2 -> 1.7772075 | I9: =F9^2 -> 0.044567901 | K9: =$C$105+$C$74*C9 -> 6.3793251 | L9: =D9-K9 -> -1.5793251
C10: ='Example 3 - Data'!C10 -> 5.1842466 | D10: ='Example 3 - Data'!D10 -> 3.8 | E10: =C10-$C$14 -> -0.05403033 | F10: =D10-$D$14 -> -1.2111111 | G10: =E10*F10 -> 0.065436733 | H10: =E10^2 -> 0.0029192765 | I10: =F10^2 -> 1.4667901 | K10: =$C$105+$C$74*C10 -> 4.9556584 | L10: =D10-K10 -> -1.1556584
C11: ='Example 3 - Data'!C11 -> 4.1202459 | D11: ='Example 3 - Data'!D11 -> 3 | E11: =C11-$C$14 -> -1.1180311 | F11: =D11-$D$14 -> -2.0111111 | G11: =E11*F11 -> 2.2484848 | H11: =E11^2 -> 1.2499936 | I11: =F11^2 -> 4.0445679 | K11: =$C$105+$C$74*C11 -> 3.8636477 | L11: =D11-K11 -> -0.86364768
B13: Covariance - Sample: | H13: Total sum of squares | I13: =SUM(I3:I11) -> 20.508889 | J13: Sum | K13: =SUM(K3:K11) -> 45.1
B14: Mean | C14: =AVERAGE(C3:C11) -> 5.238277 | D14: =AVERAGE(D3:D11) -> 5.0111111 | J14: Average estimated prices (ŷ) | K14: =AVERAGE(K3:K11) -> 5.0111111
B15: ∑(x-x̅)(y-y̅) | C15: =SUM(G3:G11) -> 6.3866914
B16: n | C16: =COUNT(C3:C11) -> 9
B17: n-1 | C17: =C16-1 -> 8
B18: COVx,y = ∑(x-x̅)(y-y̅)/n-1 | C18: =C15/C17 -> 0.79833643
B19: Sample Covariance using excel, Enter "=covariance.s(x,y) | C19: =_xlfn.COVARIANCE.S(C3:C11,D3:D11) -> 0.79833643
B21: Covariance - Population:
B22: COVx,y = ∑(x-x̅)(y-y̅)/N | C22: =C15/C16 -> 0.70963238
B23: Population Covariance using excel, Enter "=covariance.p(x,y) | C23: =_xlfn.COVARIANCE.P(C3:C11,D3:D11) -> 0.70963238
B26: Correlation:
B27: Correlation using formula 1:
B28: ∑(x-x̅)(y-y̅) | C28: =SUM(G3:G11) -> 6.3866914
B29: ∑(x-x̅)² | C29: =SUM(H3:H11) -> 6.2228734
B30: √[∑(x-x̅)²] | C30: =C29^0.5 -> 2.4945688
B31: ∑(y-y̅)² | C31: =SUM(I3:I11) -> 20.508889
B32: √[∑(y-y̅)²] | C32: =C31^0.5 -> 4.5286741
B33: Correlation (𝜌) = ∑(x-x̅)(y-y̅)/{[√[∑(x-x̅)²]*√[∑(y-y̅)²]} | C33: =C28/(C30*C32) -> 0.56533957
B35: Correlation using formula 2: | C35: Using Sample Parameters
B36: Sample Covariance between x and y | C36: =C19 -> 0.79833643
B37: Sample standard deviation of x:
B38: ∑(x-x̅)² | C38: =SUM(H3:H11) -> 6.2228734
B39: ∑(x-x̅)²/(n-1) | C39: =C38/C17 -> 0.77785918
B40: σx= √[∑(x-x̅)²/(n-1)] | C40: =C39^0.5 -> 0.88196325
B41: Sample standard of x deviation using Excel | C41: =_xlfn.STDEV.S(C3:C11) -> 0.88196325
B42: Standard deviation of y:
B43: ∑(y-y̅)² | C43: =SUM(I3:I11) -> 20.508889
B44: ∑(y-y̅)²/n-1 | C44: =C43/C17 -> 2.5636111
B45: σy= √[∑(y-y̅)²/n-1] | C45: =C44^0.5 -> 1.6011281
...
