Workbook

Sheet Example 3 - Data
B2: Date | C2: SA_CPI (x) | D2: SA_HPI (y)
B3: 40543 | C3: 4.0897299 | D3: 3.1
B4: 40908 | C4: 4.999267 | D4: 4.4
B5: 41274 | C5: 5.7246579 | D5: 5.8
B6: 41639 | C6: 5.7844691 | D6: 7.7
B7: 42004 | C7: 6.1298377 | D7: 6.2
B8: 42369 | C8: 4.5406423 | D8: 6.3
B9: 42735 | C9: 6.5713964 | D9: 4.8
B10: 43100 | C10: 5.1842466 | D10: 3.8
B11: 43830 | C11: 4.1202459 | D11: 3

Sheet Example 3 - SLR
K1: Estimated Prices | L1: Residuals
C2: ='Example 3 - Data'!C2 -> SA_CPI (x) | D2: ='Example 3 - Data'!D2 -> SA_HPI (y) | E2: x-x̅ | F2: y-y̅ | G2: (x-x̅)(y-y̅) | H2: (x-x̅)² | I2: (y-y̅)² | K2: ŷ = α + βx | L2: y-ŷ
C3: ='Example 3 - Data'!C3 -> 4.0897299 | D3: ='Example 3 - Data'!D3 -> 3.1 | E3: =C3-$C$14 -> -1.1485471 | F3: =D3-$D$14 -> -1.9111111 | G3: =E3*F3 -> 2.1950011 | H3: =E3^2 -> 1.3191604 | I3: =F3^2 -> 3.6523457 | K3: =$C$105+$C$74*C3 -> 3.8323284 | L3: =D3-K3 -> -0.73232837
C4: ='Example 3 - Data'!C4 -> 4.999267 | D4: ='Example 3 - Data'!D4 -> 4.4 | E4: =C4-$C$14 -> -0.23901001 | F4: =D4-$D$14 -> -0.61111111 | G4: =E4*F4 -> 0.14606167 | H4: =E4^2 -> 0.057125784 | I4: =F4^2 -> 0.37345679 | K4: =$C$105+$C$74*C4 -> 4.7658091 | L4: =D4-K4 -> -0.36580913
C5: ='Example 3 - Data'!C5 -> 5.7246579 | D5: ='Example 3 - Data'!D5 -> 5.8 | E5: =C5-$C$14 -> 0.48638094 | F5: =D5-$D$14 -> 0.78888889 | G5: =E5*F5 -> 0.38370052 | H5: =E5^2 -> 0.23656642 | I5: =F5^2 -> 0.62234568 | K5: =$C$105+$C$74*C5 -> 5.5102961 | L5: =D5-K5 -> 0.2897039
C6: ='Example 3 - Data'!C6 -> 5.7844691 | D6: ='Example 3 - Data'!D6 -> 7.7 | E6: =C6-$C$14 -> 0.54619212 | F6: =D6-$D$14 -> 2.6888889 | G6: =E6*F6 -> 1.4686499 | H6: =E6^2 -> 0.29832583 | I6: =F6^2 -> 7.2301235 | K6: =$C$105+$C$74*C6 -> 5.5716818 | L6: =D6-K6 -> 2.1283182
C7: ='Example 3 - Data'!C7 -> 6.1298377 | D7: ='Example 3 - Data'!D7 -> 6.2 | E7: =C7-$C$14 -> 0.89156073 | F7: =D7-$D$14 -> 1.1888889 | G7: =E7*F7 -> 1.0599666 | H7: =E7^2 -> 0.79488053 | I7: =F7^2 -> 1.4134568 | K7: =$C$105+$C$74*C7 -> 5.9261423 | L7: =D7-K7 -> 0.27385771
C8: ='Example 3 - Data'!C8 -> 4.5406423 | D8: ='Example 3 - Data'!D8 -> 6.3 | E8: =C8-$C$14 -> -0.6976347 | F8: =D8-$D$14 -> 1.2888889 | G8: =E8*F8 -> -0.89917361 | H8: =E8^2 -> 0.48669417 | I8: =F8^2 -> 1.6612346 | K8: =$C$105+$C$74*C8 -> 4.2951111 | L8: =D8-K8 -> 2.0048889
C9: ='Example 3 - Data'!C9 -> 6.5713964 | D9: ='Example 3 - Data'!D9 -> 4.8 | E9: =C9-$C$14 -> 1.3331194 | F9: =D9-$D$14 -> -0.21111111 | G9: =E9*F9 -> -0.28143633 | H9: =E9^2 -> 1.7772075 | I9: =F9^2 -> 0.044567901 | K9: =$C$105+$C$74*C9 -> 6.3793251 | L9: =D9-K9 -> -1.5793251
C10: ='Example 3 - Data'!C10 -> 5.1842466 | D10: ='Example 3 - Data'!D10 -> 3.8 | E10: =C10-$C$14 -> -0.05403033 | F10: =D10-$D$14 -> -1.2111111 | G10: =E10*F10 -> 0.065436733 | H10: =E10^2 -> 0.0029192765 | I10: =F10^2 -> 1.4667901 | K10: =$C$105+$C$74*C10 -> 4.9556584 | L10: =D10-K10 -> -1.1556584
C11: ='Example 3 - Data'!C11 -> 4.1202459 | D11: ='Example 3 - Data'!D11 -> 3 | E11: =C11-$C$14 -> -1.1180311 | F11: =D11-$D$14 -> -2.0111111 | G11: =E11*F11 -> 2.2484848 | H11: =E11^2 -> 1.2499936 | I11: =F11^2 -> 4.0445679 | K11: =$C$105+$C$74*C11 -> 3.8636477 | L11: =D11-K11 -> -0.86364768
B13: Covariance - Sample: | H13: Total sum of squares | I13: =SUM(I3:I11) -> 20.508889 | J13: Sum | K13: =SUM(K3:K11) -> 45.1
B14: Mean | C14: =AVERAGE(C3:C11) -> 5.238277 | D14: =AVERAGE(D3:D11) -> 5.0111111 | J14: Average estimated prices (ŷ) | K14: =AVERAGE(K3:K11) -> 5.0111111
B15: ∑(x-x̅)(y-y̅) | C15: =SUM(G3:G11) -> 6.3866914
B16: n | C16: =COUNT(C3:C11) -> 9
B17: n-1 | C17: =C16-1 -> 8
B18: COVx,y = ∑(x-x̅)(y-y̅)/n-1 | C18: =C15/C17 -> 0.79833643
B19: Sample Covariance using excel, Enter "=covariance.s(x,y) | C19: =_xlfn.COVARIANCE.S(C3:C11,D3:D11) -> 0.79833643
B21: Covariance - Population:
B22: COVx,y = ∑(x-x̅)(y-y̅)/N | C22: =C15/C16 -> 0.70963238
B23: Population Covariance using excel, Enter "=covariance.p(x,y) | C23: =_xlfn.COVARIANCE.P(C3:C11,D3:D11) -> 0.70963238
B26: Correlation:
B27: Correlation using formula 1:
B28: ∑(x-x̅)(y-y̅) | C28: =SUM(G3:G11) -> 6.3866914
B29: ∑(x-x̅)² | C29: =SUM(H3:H11) -> 6.2228734
B30: √[∑(x-x̅)²] | C30: =C29^0.5 -> 2.4945688
B31: ∑(y-y̅)² | C31: =SUM(I3:I11) -> 20.508889
B32: √[∑(y-y̅)²] | C32: =C31^0.5 -> 4.5286741
B33: Correlation (𝜌) = ∑(x-x̅)(y-y̅)/{[√[∑(x-x̅)²]*√[∑(y-y̅)²]} | C33: =C28/(C30*C32) -> 0.56533957
B35: Correlation using formula 2: | C35: Using Sample Parameters
B36: Sample Covariance between x and y | C36: =C19 -> 0.79833643
B37: Sample standard deviation of x:
B38: ∑(x-x̅)² | C38: =SUM(H3:H11) -> 6.2228734
B39: ∑(x-x̅)²/(n-1) | C39: =C38/C17 -> 0.77785918
B40: σx= √[∑(x-x̅)²/(n-1)] | C40: =C39^0.5 -> 0.88196325
B41: Sample standard of x deviation using Excel | C41: =_xlfn.STDEV.S(C3:C11) -> 0.88196325
B42: Standard deviation of y:
B43: ∑(y-y̅)² | C43: =SUM(I3:I11) -> 20.508889
B44: ∑(y-y̅)²/n-1 | C44: =C43/C17 -> 2.5636111
B45: σy= √[∑(y-y̅)²/n-1] | C45: =C44^0.5 -> 1.6011281
B46: Sample standard of y deviation using Excel | C46: =_xlfn.STDEV.S(D3:D11) -> 1.6011281
B47: Correlation (ρ) = COVx,y /(σx*σy) | C47: =C36/(C40*C45) -> 0.56533957
B48: Correlation using excel: Enter “=correl(x,y)” = | C48: =C19/(C41*C46) -> 0.56533957
B51: Correlation using formula 2: | C51: Using Population Parameters
B52: Population Covariance between x and y | C52: =C22 -> 0.70963238
B53: Population standard deviation of x:
B54: ∑(x-x̅)² | C54: =SUM(H3:H11) -> 6.2228734
B55: ∑(x-x̅)²/N | C55: =C54/C16 -> 0.69143038
B56: σx= √[∑(x-x̅)²/N] | C56: =C55^0.5 -> 0.83152293
B57: Population standard of x deviation using Excel | C57: =_xlfn.STDEV.P(C3:C11) -> 0.83152293
B58: Population standard deviation of y:
B59: ∑(y-y̅)² | C59: =C43 -> 20.508889
B60: ∑(y-y̅)²/N | C60: =C59/C16 -> 2.2787654
B61: σy= √[∑(y-y̅)²/N] | C61: =C60^0.5 -> 1.509558
B62: Population standard of y deviation using Excel | C62: =_xlfn.STDEV.P(D3:D11) -> 1.509558
B63: Correlation (ρ) = COVx,y /(σx*σy) | C63: =C52/(C56*C61) -> 0.56533957
B64: Correlation using excel: Enter “=correl(x,y)” = | C64: =C52/(C57*C62) -> 0.56533957
B67: SLOPE, FORMULA 1
B69: Slope (β): | C69: Using Sample Parameters
B70: Correlation (ρ) | C70: =C63 -> 0.56533957
B71: Sample standard deviation of x (σx) | C71: =C41 -> 0.88196325
B72: Sample standard deviation of y (σy) | C72: =C45 -> 1.6011281 | F72: SUMMARY OUTPUT
B73: Slope (β) = ρ*(σy/σx) | C73: =C70*(C72/C71) -> 1.0263251
B74: Slope (β) using excel; Enter: "= slope(y,x)" | C74: =SLOPE(D3:D11,C3:C11) -> 1.0263251 | F74: Regression Statistics
F75: Multiple R | G75: 0.56533957
B76: Slope (β): | C76: Using Population Parameters | F76: R Square | G76: 0.31960883
B77: Correlation (ρ) | C77: =C63 -> 0.56533957 | F77: Adjusted R Square | G77: 0.22241009
B78: Population standard deviation of x (σx) | C78: =C56 -> 0.83152293 | F78: Standard Error | G78: 1.4118917
B79: Population standard deviation of y (σy) | C79: =C61 -> 1.509558 | F79: Observations | G79: 9
B80: Slope (β) = ρ*(σy/σx) | C80: =C77*(C79/C78) -> 1.0263251
B81: Slope (β) using excel; Enter: "= slope(y,x)" | C81: =SLOPE(D3:D11,C3:C11) -> 1.0263251 | F81: ANOVA
G82: df | H82: SS | I82: MS | J82: F | K82: Significance F
F83: Regression | G83: 1 | H83: 6.5548219 | I83: 6.5548219 | J83: 3.2881993 | K83: 0.1126625
B84: SLOPE, FORMULA 2 | F84: Residual | G84: 7 | H84: 13.954067 | I84: 1.9934381
F85: Total | G85: 8 | H85: 20.508889
B87: Slope (β): | C87: Using Sample Parameters | G87: Coefficients | H87: Standard Error | I87: t Stat | J87: P-value | K87: Lower 95% | L87: Upper 95% | M87: Lower 95.0% | N87: Upper 95.0%
B88: Sample COVx,y | C88: =C18 -> 0.79833643 | F88: Intercept | G88: -0.36506422 | H88: 3.0019144 | I88: -0.12161047 | J88: 0.90662496 | K88: -7.4634637 | L88: 6.7333353 | M88: -7.4634637 | N88: 6.7333353
B89: Sample standard deviation of x (σx) | C89: =C40 -> 0.88196325 | F89: SA_CPI (x) | G89: 1.0263251 | H89: 0.56598627 | I89: 1.8133393 | J89: 0.1126625 | K89: -0.31201973 | L89: 2.36467 | M89: -0.31201973 | N89: 2.36467
B90: Sample variance of x ((σ2x) | C90: =C89^2 -> 0.77785918
B91: Slope (β) = COVx,y/(σ2x) | C91: =C88/C90 -> 1.0263251
B93: Slope (β): | C93: Using Population Parameters | F93: RESIDUAL OUTPUT
B94: Population COVx,y | C94: =C22 -> 0.70963238
B95: Population standard deviation of x (σx) | C95: =C56 -> 0.83152293 | F95: Observation | G95: Predicted SA_HPI (y) | H95: Residuals
B96: Population variance of x ((σ2x) | C96: =C95^2 -> 0.69143038 | F96: 1 | G96: 3.8323284 | H96: -0.73232837
B97: Slope (β) = COVx,y/(σ2x) | C97: =C94/C96 -> 1.0263251 | F97: 2 | G97: 4.7658091 | H97: -0.36580913
F98: 3 | G98: 5.5102961 | H98: 0.2897039
F99: 4 | G99: 5.5716818 | H99: 2.1283182
B100: Intercept (α): | F100: 5 | G100: 5.9261423 | H100: 0.27385771
B101: x̅ | C101: =C14 -> 5.238277 | F101: 6 | G101: 4.2951111 | H101: 2.0048889
B102: y̅ | C102: =D14 -> 5.0111111 | F102: 7 | G102: 6.3793251 | H102: -1.5793251
B103: Slope (β) | C103: =C73 -> 1.0263251 | F103: 8 | G103: 4.9556584 | H103: -1.1556584
B104: Intercept (α) = ȳ - βx̅ | C104: =C102-C103*C101 -> -0.36506422 | F104: 9 | G104: 3.8636477 | H104: -0.86364768
B105: Intercept using Excel: "= intercept(y,x)" | C105: =INTERCEPT(D3:D11,C3:C11) -> -0.36506422
