Workbook

Sheet Example 2 - Data
B2: Date | C2: SA_CPI (x) | D2: IPD_SA (y)
B3: 40543 | C3: 4.0897299 | D3: 15.010182
B4: 40908 | C4: 4.999267 | D4: 8.2273224
B5: 41274 | C5: 5.7246579 | D5: 3.7803145
B6: 41639 | C6: 5.7844691 | D6: 11.212745
B7: 42004 | C7: 6.1298377 | D7: 17.707098
B8: 42369 | C8: 4.5406423 | D8: 13.333774
B9: 42735 | C9: 6.5713964 | D9: 3.8854623
B10: 43100 | C10: 5.1842466 | D10: 9.5686676
B11: 43465 | C11: 4.5171652 | D11: 5.1989979

Sheet Example 2 - SLR
K1: Estimated Prices | L1: Residuals
C2: ='Example 2 - Data'!C2 -> SA_CPI (x) | D2: ='Example 2 - Data'!D2 -> IPD_SA (y) | E2: x-x̅ | F2: y-y̅ | G2: (x-x̅)(y-y̅) | H2: (x-x̅)² | I2: (y-y̅)² | K2: ŷ = α + βx | L2: y-ŷ
C3: ='Example 2 - Data'!C3 -> 4.0897299 | D3: ='Example 2 - Data'!D3 -> 15.010182 | E3: =C3-$C$14 -> 4.0897299
C4: ='Example 2 - Data'!C4 -> 4.999267 | D4: ='Example 2 - Data'!D4 -> 8.2273224 | E4: =C4-$C$14 -> 4.999267
C5: ='Example 2 - Data'!C5 -> 5.7246579 | D5: ='Example 2 - Data'!D5 -> 3.7803145 | E5: =C5-$C$14 -> 5.7246579
C6: ='Example 2 - Data'!C6 -> 5.7844691 | D6: ='Example 2 - Data'!D6 -> 11.212745 | E6: =C6-$C$14 -> 5.7844691
C7: ='Example 2 - Data'!C7 -> 6.1298377 | D7: ='Example 2 - Data'!D7 -> 17.707098 | E7: =C7-$C$14 -> 6.1298377
C8: ='Example 2 - Data'!C8 -> 4.5406423 | D8: ='Example 2 - Data'!D8 -> 13.333774 | E8: =C8-$C$14 -> 4.5406423
C9: ='Example 2 - Data'!C9 -> 6.5713964 | D9: ='Example 2 - Data'!D9 -> 3.8854623 | E9: =C9-$C$14 -> 6.5713964
C10: ='Example 2 - Data'!C10 -> 5.1842466 | D10: ='Example 2 - Data'!D10 -> 9.5686676 | E10: =C10-$C$14 -> 5.1842466
C11: ='Example 2 - Data'!C11 -> 4.5171652 | D11: ='Example 2 - Data'!D11 -> 5.1989979 | E11: =C11-$C$14 -> 4.5171652
B13: Covariance - Sample: | H13: Total sum of squares | J13: Sum
B14: Mean | J14: Average estimated prices (ŷ)
B15: ∑(x-x̅)(y-y̅)
B16: n
B17: n-1
B18: COVx,y = ∑(x-x̅)(y-y̅)/n-1
B19: Sample Covariance using excel, Enter "=covariance.s(x,y)
B21: Covariance - Population:
B22: COVx,y = ∑(x-x̅)(y-y̅)/N
B23: Population Covariance using excel, Enter "=covariance.p(x,y)
B26: Correlation:
B27: Correlation using formula 1:
B28: ∑(x-x̅)(y-y̅)
B29: ∑(x-x̅)²
... B33: Correlation (𝜌) = ∑(x-x̅)(y-y̅)/{[√[∑(x-x̅)²]*√[∑(y-y̅)²]}
B35: Correlation using formula 2: | C35: Using Sample Parameters
B36: Sample Covariance between x and y
B37: Sample standard deviation of x:
B38: ∑(x-x̅)²
B39: ∑(x-x̅)²/(n-1)
B40: σx= √[∑(x-x̅)²/(n-1)]
B41: Sample standard of x deviation using Excel
B42: Sample Standard deviation of y:
B43: ∑(y-y̅)²
B44: ∑(y-y̅)²/n-1
B45: σy= √[∑(y-y̅)²/n-1]
B46: Sample standard of y deviation using Excel
B47: Correlation (ρ) = COVx,y /(σx*σy)
B48: Correlation using excel: Enter “=correl(x,y)” =
...
