Workbook

Sheet Example 1 - Data
B2: Building Area (Sq. ft; x) | C2: Price (y)
B3: 350 | C3: 1800000
B4: 450 | C4: 2100000
B5: 460 | C5: 2300000
B6: 500 | C6: 2300000
B7: 570 | C7: 2400000
B8: 600 | C8: 2600000
B9: 700 | C9: 2800000
B10: 840 | C10: 3100000
B11: 1100 | C11: 5200000
B12: 1200 | C12: 5600000

Sheet Example 1 - SLR
K1: Estimated Prices | L1: Residuals
C2: ='Example 1 - Data'!B2 -> Building Area (Sq. ft; x) | D2: ='Example 1 - Data'!C2 -> Price (y) | E2: x-x̅ | F2: y-y̅ | G2: (x-x̅)(y-y̅) | H2: (x-x̅)² | I2: (y-y̅)² | K2: ŷ = α + βx | L2: y-ŷ
C3: ='Example 1 - Data'!B3 -> 350 | D3: ='Example 1 - Data'!C3 -> 1800000 | E3: =C3-$C$15 -> -327 | F3: =D3-$D$15 -> -1220000 | G3: =E3*F3 -> 398940000 | H3: =E3^2 -> 106929 | I3: =F3^2 -> 1488400000000 | K3: =$C$103+$C$74*C3 -> 1563002.7 | L3: =D3-K3 -> 236997.32
C4: ='Example 1 - Data'!B4 -> 450 | D4: ='Example 1 - Data'!C4 -> 2100000 | E4: =C4-$C$15 -> -227 | F4: =D4-$D$15 -> -920000 | G4: =E4*F4 -> 208840000 | H4: =E4^2 -> 51529 | I4: =F4^2 -> 846400000000 | K4: =$C$103+$C$74*C4 -> 2008567.6 | L4: =D4-K4 -> 91432.387
C5: ='Example 1 - Data'!B5 -> 460 | D5: ='Example 1 - Data'!C5 -> 2300000 | E5: =C5-$C$15 -> -217 | F5: =D5-$D$15 -> -720000 | G5: =E5*F5 -> 156240000 | H5: =E5^2 -> 47089 | I5: =F5^2 -> 518400000000 | K5: =$C$103+$C$74*C5 -> 2053124.1 | L5: =D5-K5 -> 246875.89
C6: ='Example 1 - Data'!B6 -> 500 | D6: ='Example 1 - Data'!C6 -> 2300000 | E6: =C6-$C$15 -> -177 | F6: =D6-$D$15 -> -720000 | G6: =E6*F6 -> 127440000 | H6: =E6^2 -> 31329 | I6: =F6^2 -> 518400000000 | K6: =$C$103+$C$74*C6 -> 2231350.1 | L6: =D6-K6 -> 68649.923
C7: ='Example 1 - Data'!B7 -> 570 | D7: ='Example 1 - Data'!C7 -> 2400000 | E7: =C7-$C$15 -> -107 | F7: =D7-$D$15 -> -620000 | G7: =E7*F7 -> 66340000 | H7: =E7^2 -> 11449 | I7: =F7^2 -> 384400000000 | K7: =$C$103+$C$74*C7 -> 2543245.5 | L7: =D7-K7 -> -143245.53
C8: ='Example 1 - Data'!B8 -> 600 | D8: ='Example 1 - Data'!C8 -> 2600000 | E8: =C8-$C$15 -> -77 | F8: =D8-$D$15 -> -420000 | G8: =E8*F8 -> 32340000 | H8: =E8^2 -> 5929 | I8: =F8^2 -> 176400000000 | K8: =$C$103+$C$74*C8 -> 2676915 | L8: =D8-K8 -> -76915.005
C9: ='Example 1 - Data'!B9 -> 700 | D9: ='Example 1 - Data'!C9 -> 2800000 | E9: =C9-$C$15 -> 23 | F9: =D9-$D$15 -> -220000 | G9: =E9*F9 -> -5060000 | H9: =E9^2 -> 529 | I9: =F9^2 -> 48400000000 | K9: =$C$103+$C$74*C9 -> 3122479.9 | L9: =D9-K9 -> -322479.93
C10: ='Example 1 - Data'!B10 -> 840 | D10: ='Example 1 - Data'!C10 -> 3100000 | E10: =C10-$C$15 -> 163 | F10: =D10-$D$15 -> 80000 | G10: =E10*F10 -> 13040000 | H10: =E10^2 -> 26569 | I10: =F10^2 -> 6400000000 | K10: =$C$103+$C$74*C10 -> 3746270.8 | L10: =D10-K10 -> -646270.83
C11: ='Example 1 - Data'!B11 -> 1100 | D11: ='Example 1 - Data'!C11 -> 5200000 | E11: =C11-$C$15 -> 423 | F11: =D11-$D$15 -> 2180000 | G11: =E11*F11 -> 922140000 | H11: =E11^2 -> 178929 | I11: =F11^2 -> 4752400000000 | K11: =$C$103+$C$74*C11 -> 4904739.6 | L11: =D11-K11 -> 295260.35
C12: ='Example 1 - Data'!B12 -> 1200 | D12: ='Example 1 - Data'!C12 -> 5600000 | E12: =C12-$C$15 -> 523 | F12: =D12-$D$15 -> 2580000 | G12: =E12*F12 -> 1349340000 | H12: =E12^2 -> 273529 | I12: =F12^2 -> 6656400000000 | K12: =$C$103+$C$74*C12 -> 5350304.6 | L12: =D12-K12 -> 249695.43
B14: Covariance - Sample: | H14: Total sum of squares | I14: =SUM(I3:I12) -> 15396000000000 | J14: Sum | K14: =SUM(K3:K12) -> 30200000
B15: Mean | C15: =AVERAGE(C3:C12) -> 677 | D15: =AVERAGE(D3:D12) -> 3020000 | J15: Average estimated prices (ŷ) | K15: =AVERAGE(K3:K12) -> 3020000
B16: ∑(x-x̅)(y-y̅) | C16: =SUM(G3:G12) -> 3269600000
B17: n | C17: =COUNT(C3:C12) -> 10
B18: n-1 | C18: =C17-1 -> 9
B19: COVx,y = ∑(x-x̅)(y-y̅)/n-1 | C19: =C16/C18 -> 3.6328889e+08
B20: Sample Covariance using excel, Enter "=covariance.s(x,y) | C20: =_xlfn.COVARIANCE.S(C3:C12,D3:D12) -> 3.6328889e+08
B22: Covariance - Population:
B23: COVx,y = ∑(x-x̅)(y-y̅)/N | C23: =C16/C17 -> 326960000
B24: Population Covariance using excel, Enter "=covariance.p(x,y) | C24: =_xlfn.COVARIANCE.P(C3:C12,D3:D12) -> 326960000
B27: Correlation:
B28: Correlation using formula 1:
B29: ∑(x-x̅)(y-y̅) | C29: =SUM(G3:G12) -> 3269600000
B30: ∑(x-x̅)² | C30: =SUM(H3:H12) -> 733810
B31: √[∑(x-x̅)²] | C31: =C30^0.5 -> 856.62711
B32: ∑(y-y̅)² | C32: =SUM(I3:I12) -> 15396000000000
B33: √[∑(y-y̅)²] | C33: =C32^0.5 -> 3923773.7
B34: Correlation (𝜌) = ∑(x-x̅)(y-y̅)/{[√[∑(x-x̅)²]*√[∑(y-y̅)²]} | C34: =C29/(C31*C33) -> 0.97274467
B36: Correlation using formula 2: | C36: Using Sample Parameters
B37: Sample Covariance between x and y | C37: =C20 -> 3.6328889e+08
B38: Sample standard deviation of x:
B39: ∑(x-x̅)² | C39: =SUM(H3:H12) -> 733810
B40: ∑(x-x̅)²/(n-1) | C40: =C39/C18 -> 81534.444
B41: σx= √[∑(x-x̅)²/(n-1)] | C41: =C40^0.5 -> 285.54237
B42: Sample standard of x deviation using Excel | C42: =_xlfn.STDEV.S(C3:C12) -> 285.54237
B43: Sample Standard deviation of y:
B44: ∑(y-y̅)² | C44: =SUM(I3:I12) -> 15396000000000
B45: ∑(y-y̅)²/n-1 | C45: =C44/C18 -> 1.7106667e+12
B46: σy= √[∑(y-y̅)²/n-1] | C46: =C45^0.5 -> 1307924.6
B47: Sample standard of y deviation using Excel | C47: =_xlfn.STDEV.S(D3:D12) -> 1307924.6
B48: Correlation (ρ) = COVx,y /(σx*σy) | C48: =C37/(C41*C46) -> 0.97274467
B49: Correlation using excel: Enter “=correl(x,y)” = | C49: =C20/(C42*C47) -> 0.97274467
B52: Correlation using formula 2: | C52: Using Population Parameters
B53: Population Covariance between x and y | C53: =C23 -> 326960000
B54: Population standard deviation of x:
B55: ∑(x-x̅)² | C55: =SUM(H3:H12) -> 733810
B56: ∑(x-x̅)²/N | C56: =C55/C17 -> 73381
B57: σx= √[∑(x-x̅)²/N] | C57: =C56^0.5 -> 270.88928
B58: Population standard of x deviation using Excel | C58: =_xlfn.STDEV.P(C3:C12) -> 270.88928
B59: Population standard deviation of y:
B60: ∑(y-y̅)² | C60: =C44 -> 15396000000000
B61: ∑(y-y̅)²/N | C61: =C60/C17 -> 1539600000000
B62: σy= √[∑(y-y̅)²/N] | C62: =C61^0.5 -> 1240806.2
B63: Population standard of y deviation using Excel | C63: =_xlfn.STDEV.P(D3:D12) -> 1240806.2
B64: Correlation (ρ) = COVx,y /(σx*σy) | C64: =C53/(C57*C62) -> 0.97274467
B65: Correlation using excel: Enter “=correl(x,y)” = | C65: =C53/(C58*C63) -> 0.97274467
B67: SLOPE, FORMULA 1
B69: Slope (β): | C69: Using Sample Parameters
B70: Correlation (ρ) | C70: =C64 -> 0.97274467
B71: Sample standard deviation of x (σx) | C71: =C42 -> 285.54237
B72: Sample standard deviation of y (σy) | C72: =C46 -> 1307924.6
B73: Slope (β) = ρ*(σy/σx) | C73: =C70*(C72/C71) -> 4455.6493
B74: Slope (β) using excel; Enter: "= slope(y,x)" | C74: =SLOPE(D3:D12,C3:C12) -> 4455.6493
B76: Slope (β): | C76: Using Population Parameters
B77: Correlation (ρ) | C77: =C64 -> 0.97274467
B78: Population standard deviation of x (σx) | C78: =C57 -> 270.88928
B79: Population standard deviation of y (σy) | C79: =C62 -> 1240806.2
B80: Slope (β) = ρ*(σy/σx) | C80: =C77*(C79/C78) -> 4455.6493
B81: Slope (β) using excel; Enter: "= slope(y,x)" | C81: =SLOPE(D3:D12,C3:C12) -> 4455.6493
B84: SLOPE, FORMULA 2
B86: Slope (β): | C86: Using Sample Parameters
B87: Sample COVx,y | C87: =C19 -> 3.6328889e+08
B88: Sample standard deviation of x (σx) | C88: =C41 -> 285.54237
B89: Sample variance of x ((σ2x) | C89: =C88^2 -> 81534.444
B90: Slope (β) = COVx,y/(σ2x) | C90: =C87/C89 -> 4455.6493
B92: Slope (β): | C92: Using Population Parameters
B93: Population COVx,y | C93: =C23 -> 326960000
B94: Population standard deviation of x (σx) | C94: =C58 -> 270.88928
B95: Population variance of x ((σ2x) | C95: =C94^2 -> 73381
B96: Slope (β) = COVx,y/(σ2x) | C96: =C93/C95 -> 4455.6493
B98: Intercept (α):
B99: x̅ | C99: =C15 -> 677
B100: y̅ | C100: =D15 -> 3020000
B101: Slope (β) | C101: =C73 -> 4455.6493
B102: Intercept (α) = ȳ - βx̅ | C102: =C100-C101*C99 -> 3525.4357
B103: Intercept using Excel: "= intercept(y,x)" | C103: =INTERCEPT(D3:D12,C3:C12) -> 3525.4357
F106: SUMMARY OUTPUT
F108: Regression Statistics
F109: Multiple R | G109: 0.97274467
F110: R Square | G110: 0.9462322
F111: Adjusted R Square | G111: 0.93951122
F112: Standard Error | G112: 321677.07
F113: Observations | G113: 10
F115: ANOVA
G116: df | H116: SS | I116: MS | J116: F | K116: Significance F
F117: Regression | G117: 1 | H117: 1.4568191e+13 | I117: 1.4568191e+13 | J117: 140.78793 | K117: 2.3361898e-06
F118: Residual | G118: 8 | H118: 8.2780911e+11 | I118: 1.0347614e+11
F119: Total | G119: 9 | H119: 15396000000000
...
