Workbook

Sheet Data - Example 1
C2: Year | D2: Return
C3: 2001 | D3: 2.6
C4: 2002 | D4: 1.2
C5: 2003 | D5: 1.6
C6: 2004 | D6: 5.6
C7: 2005 | D7: 11.2
C8: 2006 | D8: 2.4

Sheet Example 1a
F1: SKEWNESS | I1: KURTOSIS
C2: ='Data - Example 1'!C2 -> Year | D2: ='Data - Example 1'!D2 -> Return | E2: r-r̄ | F2: (r-r̄)/σ | G2: [(r-r̄)/σ]3 | I2: [(r-r̄)/σ]4
C3: ='Data - Example 1'!C3 -> 2001 | D3: ='Data - Example 1'!D3 -> 2.6 | E3: =D3-$D$11 -> -1.5 | F3: =E3/$D$12 -> -0.39402801 | G3: =F3^3 -> -0.06117603 | I3: =F3^4 -> 0.024105069
C4: ='Data - Example 1'!C4 -> 2002 | D4: ='Data - Example 1'!D4 -> 1.2 | E4: =D4-$D$11 -> -2.9 | F4: =E4/$D$12 -> -0.76178749 | G4: =F4^3 -> -0.44208065 | I4: =F4^4 -> 0.33677151
C5: ='Data - Example 1'!C5 -> 2003 | D5: ='Data - Example 1'!D5 -> 1.6 | E5: =D5-$D$11 -> -2.5 | F5: =E5/$D$12 -> -0.65671335 | G5: =F5^3 -> -0.28322236 | I5: =F5^4 -> 0.18599591
C6: ='Data - Example 1'!C6 -> 2004 | D6: ='Data - Example 1'!D6 -> 5.6 | E6: =D6-$D$11 -> 1.5 | F6: =E6/$D$12 -> 0.39402801 | G6: =F6^3 -> 0.06117603 | I6: =F6^4 -> 0.024105069
C7: ='Data - Example 1'!C7 -> 2005 | D7: ='Data - Example 1'!D7 -> 11.2 | E7: =D7-$D$11 -> 7.1 | F7: =E7/$D$12 -> 1.8650659 | G7: =F7^3 -> 6.4875775 | I7: =F7^4 -> 12.09976
C8: ='Data - Example 1'!C8 -> 2006 | D8: ='Data - Example 1'!D8 -> 2.4 | E8: =D8-$D$11 -> -1.7 | F8: =E8/$D$12 -> -0.44656508 | G8: =F8^3 -> -0.089054173 | I8: =F8^4 -> 0.039768484
C10: SKEWNESS:
C11: Average (r̄) | D11: =AVERAGE(D3:D8) -> 4.1
C12: Sample Standard Deviation (σ) | D12: =_xlfn.STDEV.S(D3:D8) -> 3.806836
C13: n | D13: =COUNT(D3:D8) -> 6
C14: n-1 | D14: =D13-1 -> 5
C15: n-2 | D15: =D13-2 -> 4
C16: n/(n-1)(n-2) | D16: =D13/(D14*D15) -> 0.3
C17: ∑[(r-r̄)/σ]3 | D17: =SUM(G3:G8) -> 5.6732203
C19: Sample Skewness | D19: =D16*D17 -> 1.7019661 | E19: =_xlfn.SKEW.P(D3:D8) -> 1.2429403
C20: Sample Skewness (using excel) | D20: =SKEW(D3:D8) -> 1.7019661
C22: KURTOSIS:
C23: Average (r̄) | D23: =AVERAGE(D3:D8) -> 4.1
C24: Sample Standard Deviation (σ) | D24: =_xlfn.STDEV.S(D3:D8) -> 3.806836
C25: n | D25: =COUNT(D3:D8) -> 6
C26: n+1 | D26: =D25+1 -> 7
C27: n(n+1) | D27: =D25*D26 -> 42
C28: n-1 | D28: =D25-1 -> 5
C29: n-2 | D29: =D25-2 -> 4
C30: n-3 | D30: =D25-3 -> 3
C31: (n-1)(n-2)(n-3) | D31: =D28*D29*D30 -> 60
C32: n(n+1)/(n-1)(n-2)(n-3) | D32: =D27/D31 -> 0.7
C33: ∑[(r-r̄)/σ]4 | D33: =SUM(I3:I8) -> 12.710506
C34: n(n+1)/(n-1)(n-2)(n-3)*∑[(r-r̄)/σ]4 | D34: =D32*D33 -> 8.897354
C35: 3(n-1)2 | D35: =3*D28^2 -> 75
C36: (n-2)(n-3) | D36: =D29*D30 -> 12
C37: 3(n-1)2/(n-2)(n-3) | D37: =D35/D36 -> 6.25
C39: Kurtosis | D39: =D34-D37 -> 2.647354
C40: Kurtosis using Excel | D40: =KURT(D3:D8) -> 2.647354
C43: JARQUE BERA TEST
C44: Skewness (S) | D44: =D19 -> 1.7019661
C45: Kurtosis (K-3) | D45: =D39 -> 2.647354 | E45: <- Note that Excel formula for sample kurtosis already subtracts 3 from the computed Kurtosis value, so there's no need to subtract 3 here.
C46: n | D46: =D13 -> 6
C47: S2 | D47: =D44^2 -> 2.8966886
C48: (K-3)2 | D48: =D45^2 -> 7.0084832
C49: S2/6 | D49: =D47/6 -> 0.48278143
C50: (K-3)2/24 | D50: =D48/24 -> 0.29202013
C52: JB | D52: =D46*(D49+D50) -> 4.6488094
C54: Statistical Significance of JB Statistic - Approach 1
E55: Conclusion
C56: Chi-square critical value at 1% | D56: =_xlfn.CHISQ.INV.RT(0.01,2) -> 9.2103404 | E56: =IF(D56>$D$52,"Data is normally distributed","Data is not normally distributed") -> Data is normally distributed
C57: Chi-square critical value at 5% | D57: =_xlfn.CHISQ.INV.RT(0.05,2) -> 5.9914645 | E57: =IF(D57>$D$52,"Data is normally distributed","Data is not normally distributed") -> Data is normally distributed
C58: Chi-square critical value at 10% | D58: =_xlfn.CHISQ.INV.RT(0.1,2) -> 4.6051702 | E58: =IF(D58>$D$52,"Data is normally distributed","Data is not normally distributed") -> Data is not normally distributed
C61: Statistical Significance of JB Statistic - Approach 2
C62: Probability Level | D62: =_xlfn.CHISQ.DIST.RT(D52,2) -> 0.097841674 | E62: =IF(0.1>D62,"Data is not normally distributed","Data is normally distributed") -> Data is not normally distributed

Sheet Example 1b
F1: SKEWNESS | I1: KURTOSIS
C2: ='Data - Example 1'!C2 -> Year | D2: ='Data - Example 1'!D2 -> Return | E2: r-r̄ | F2: (r-r̄)/σ | G2: [(r-r̄)/σ]3 | I2: [(r-r̄)/σ]4
C3: ='Data - Example 1'!C3 -> 2001 | D3: ='Data - Example 1'!D3 -> 2.6 | E3: =D3-$D$11 -> -1.5 | F3: =E3/$D$12 -> -0.43163606 | G3: =F3^3 -> -0.08041798 | I3: =F3^4 -> 0.0347113
C4: ='Data - Example 1'!C4 -> 2002 | D4: ='Data - Example 1'!D4 -> 1.2 | E4: =D4-$D$11 -> -2.9 | F4: =E4/$D$12 -> -0.83449638 | G4: =F4^3 -> -0.58113011 | I4: =F4^4 -> 0.48495097
C5: ='Data - Example 1'!C5 -> 2003 | D5: ='Data - Example 1'!D5 -> 1.6 | E5: =D5-$D$11 -> -2.5 | F5: =E5/$D$12 -> -0.71939343 | G5: =F5^3 -> -0.37230546 | I5: =F5^4 -> 0.2678341
C6: ='Data - Example 1'!C6 -> 2004 | D6: ='Data - Example 1'!D6 -> 5.6 | E6: =D6-$D$11 -> 1.5 | F6: =E6/$D$12 -> 0.43163606 | G6: =F6^3 -> 0.08041798 | I6: =F6^4 -> 0.0347113
C7: ='Data - Example 1'!C7 -> 2005 | D7: ='Data - Example 1'!D7 -> 11.2 | E7: =D7-$D$11 -> 7.1 | F7: =E7/$D$12 -> 2.0430773 | G7: =F7^3 -> 8.5281421 | I7: =F7^4 -> 17.423654
C8: ='Data - Example 1'!C8 -> 2006 | D8: ='Data - Example 1'!D8 -> 2.4 | E8: =D8-$D$11 -> -1.7 | F8: =E8/$D$12 -> -0.48918753 | G8: =F8^3 -> -0.11706475 | I8: =F8^4 -> 0.057266617
C10: SKEWNESS:
C11: Average (r̄) | D11: =AVERAGE(D3:D8) -> 4.1
C12: Population Standard Deviation (σ) | D12: =_xlfn.STDEV.P(D3:D8) -> 3.4751499
C13: N | D13: =COUNT(D3:D8) -> 6
C14: ∑[(r-r̄)/σ]3 | D14: =SUM(G3:G8) -> 7.4576418
C15: Population Skewness | D15: =1/D13*D14 -> 1.2429403
C16: Skewness (using excel) | D16: =_xlfn.SKEW.P(D3:D8) -> 1.2429403
C18: KURTOSIS:
C19: Average (r̄) | D19: =AVERAGE(D3:D8) -> 4.1
C20: Population Standard Deviation (σ) | D20: =_xlfn.STDEV.P(D3:D8) -> 3.4751499
C21: σ4 | D21: =D20^4 -> 145.84588
C22: N | D22: =COUNT(D3:D8) -> 6
C23: ∑[(r-r̄)/σ]4 | D23: =SUM(I3:I8) -> 18.303128
C24: Population kurtosis | D24: =D23/D22 -> 3.0505214
C26: JARQUE BERA TEST
C27: Skewness (S) | D27: =D16 -> 1.2429403
C28: Kurtosis (K-3) | D28: =D24-3 -> 0.050521368 | E28: <- Note that the formula used for the population kurtosis does not automatically subtract 3. So subtract 3 here.
C29: N | D29: =D13 -> 6
C30: S2 | D30: =D27^2 -> 1.5449006
C31: (K-3)2 | D31: =D28^2 -> 0.0025524087
C32: S2/6 | D32: =D30/6 -> 0.25748343
C33: (K-3)2/24 | D33: =D31/24 -> 0.00010635036
C35: JB | D35: =D29*(D32+D33) -> 1.5455387
C37: Statistical Significance of JB Statistic - Approach 1
E38: Conclusion
C39: Chi-square critical value at 1% | D39: =_xlfn.CHISQ.INV.RT(0.01,2) -> 9.2103404 | E39: =IF(D39>$D$35,"Data is normally distributed","Data is not normally distributed") -> Data is normally distributed
C40: Chi-square critical value at 5% | D40: =_xlfn.CHISQ.INV.RT(0.05,2) -> 5.9914645 | E40: =IF(D40>$D$35,"Data is normally distributed","Data is not normally distributed") -> Data is normally distributed
C41: Chi-square critical value at 10% | D41: =_xlfn.CHISQ.INV.RT(0.1,2) -> 4.6051702 | E41: =IF(D41>$D$35,"Data is normally distributed","Data is not normally distributed") -> Data is normally distributed
C44: Statistical Significance of JB Statistic - Approach 2
C45: Probability Level | D45: =_xlfn.CHISQ.DIST.RT(D35,2) -> 0.4617326 | E45: =IF(0.1>D45,"Data is not normally distributed","Data is normally distributed") -> Data is normally distributed
