Workbook

Sheet Data - Group Task 2
C2: Year | D2: Return
C3: 2004 | D3: 40.996138
C4: 2005 | D4: 41.266559
C5: 2006 | D5: 50.031653
C6: 2007 | D6: 28.365727
C7: 2008 | D7: 26.520801
C8: 2009 | D8: -4.4686932
C9: 2010 | D9: 14.067174
C10: 2011 | D10: 30.079871
C11: 2012 | D11: 8.5401058
C12: 2013 | D12: 35.881117
C13: 2014 | D13: 8.391717
C14: 2015 | D14: 26.644214
... C21: 2022 | D21: 38.516404

Sheet  Group Task 2a
F1: SKEWNESS | I1: KURTOSIS
C2: ='Data - Group Task 2'!C2 -> Year | D2: ='Data - Group Task 2'!D2 -> Return | E2: r-r̄ | F2: (r-r̄)/σ | G2: [(r-r̄)/σ]3 | I2: [(r-r̄)/σ]4
C3: ='Data - Group Task 2'!C3 -> 2004 | D3: ='Data - Group Task 2'!D3 -> 40.996138 | E3: =D3-$D$24 -> 24.030577 | F3: =E3/$D$25 -> 1.0767074 | G3: =F3^3 -> 1.2482257 | I3: =F3^4 -> 1.3439738
C4: ='Data - Group Task 2'!C4 -> 2005 | D4: ='Data - Group Task 2'!D4 -> 41.266559 | E4: =D4-$D$24 -> 24.300997 | F4: =E4/$D$25 -> 1.0888238 | G4: =F4^3 -> 1.2908411 | I4: =F4^4 -> 1.4054985
C5: ='Data - Group Task 2'!C5 -> 2006 | D5: ='Data - Group Task 2'!D5 -> 50.031653 | E5: =D5-$D$24 -> 33.066091 | F5: =E5/$D$25 -> 1.4815502 | G5: =F5^3 -> 3.2519894 | I5: =F5^4 -> 4.8179855
C6: ='Data - Group Task 2'!C6 -> 2007 | D6: ='Data - Group Task 2'!D6 -> 28.365727 | E6: =D6-$D$24 -> 11.400165 | F6: =E6/$D$25 -> 0.51079267 | G6: =F6^3 -> 0.13327048 | I6: =F6^4 -> 0.068073584
C7: ='Data - Group Task 2'!C7 -> 2008 | D7: ='Data - Group Task 2'!D7 -> 26.520801 | E7: =D7-$D$24 -> 9.5552395 | F7: =E7/$D$25 -> 0.42812943 | G7: =F7^3 -> 0.078473904 | I7: =F7^4 -> 0.033596988
C8: ='Data - Group Task 2'!C8 -> 2009 | D8: ='Data - Group Task 2'!D8 -> -4.4686932 | E8: =D8-$D$24 -> -21.434255 | F8: =E8/$D$25 -> -0.96037734 | G8: =F8^3 -> -0.88577967 | I8: =F8^4 -> 0.85068272
C9: ='Data - Group Task 2'!C9 -> 2010 | D9: ='Data - Group Task 2'!D9 -> 14.067174 | E9: =D9-$D$24 -> -2.8983874 | F9: =E9/$D$25 -> -0.12986435 | G9: =F9^3 -> -0.0021901298 | I9: =F9^4 -> 0.00028441979
C10: ='Data - Group Task 2'!C10 -> 2011 | D10: ='Data - Group Task 2'!D10 -> 30.079871 | E10: =D10-$D$24 -> 13.114309 | F10: =E10/$D$25 -> 0.58759615 | G10: =F10^3 -> 0.20287887 | I10: =F10^4 -> 0.11921084
C11: ='Data - Group Task 2'!C11 -> 2012 | D11: ='Data - Group Task 2'!D11 -> 8.5401058 | E11: =D11-$D$24 -> -8.4254559 | F11: =E11/$D$25 -> -0.37750866 | G11: =F11^3 -> -0.053799813 | I11: =F11^4 -> 0.020309896
C12: ='Data - Group Task 2'!C12 -> 2013 | D12: ='Data - Group Task 2'!D12 -> 35.881117 | E12: =D12-$D$24 -> 18.915556 | F12: =E12/$D$25 -> 0.84752519 | G12: =F12^3 -> 0.60877645 | I12: =F12^4 -> 0.51595338
C13: ='Data - Group Task 2'!C13 -> 2014 | D13: ='Data - Group Task 2'!D13 -> 8.391717 | E13: =D13-$D$24 -> -8.5738448 | F13: =E13/$D$25 -> -0.38415733 | G13: =F13^3 -> -0.056692731 | I13: =F13^4 -> 0.021778928
C14: ='Data - Group Task 2'!C14 -> 2015 | D14: ='Data - Group Task 2'!D14 -> 26.644214 | E14: =D14-$D$24 -> 9.6786518 | F14: =E14/$D$25 -> 0.43365901 | G14: =F14^3 -> 0.081553974 | I14: =F14^4 -> 0.035366616
... C21: ='Data - Group Task 2'!C21 -> 2022 | D21: ='Data - Group Task 2'!D21 -> 38.516404 | E21: =D21-$D$24 -> 21.550842 | F21: =E21/$D$25 -> 0.96560111 | G21: =F21^3 -> 0.90031249 | I21: =F21^4 -> 0.86934274
C23: SKEWNESS
C24: Average (r̄) | D24: =AVERAGE(D3:D21) -> 16.965562
C25: Sample Standard Deviation (σ) | D25: =_xlfn.STDEV.S(D3:D21) -> 22.318576
C26: n | D26: =COUNT(D3:D21) -> 19
C27: n-1 | D27: =D26-1 -> 18
C28: n-2 | D28: =D26-2 -> 17
C29: n/(n-1)(n-2) | D29: =D26/(D27*D28) -> 0.062091503
C30: ∑[(r-r̄)/σ]3 | D30: =SUM(G3:G21) -> -12.627457
C32: Skewness | D32: =D29*D30 -> -0.78405777
C33: Skewness (using excel) | D33: =SKEW(D3:D21) -> -0.78405777
C35: KURTOSIS:
C36: Average (r̄) | D36: =AVERAGE(D3:D21) -> 16.965562
C37: Sample Standard Deviation (σ) | D37: =_xlfn.STDEV.S(D3:D21) -> 22.318576
C38: n | D38: =COUNT(D3:D21) -> 19
C39: n+1 | D39: =D38+1 -> 20
C40: n(n+1) | D40: =D38*D39 -> 380
C41: n-1 | D41: =D38-1 -> 18
C42: n-2 | D42: =D38-2 -> 17
C43: n-3 | D43: =D38-3 -> 16
C44: (n-1)(n-2)(n-3) | D44: =D41*D42*D43 -> 4896
C45: n(n+1)/(n-1)(n-2)(n-3) | D45: =(D38*D39)/(D41*D42*D43) -> 0.077614379
C46: ∑[(r-r̄)/σ]4 | D46: =SUM(I3:I21) -> 51.406722
C47: n(n+1)/(n-1)(n-2)(n-3)*∑[(r-r̄)/σ]4 | D47: =(D40/D44)*D46 -> 3.9899008
C48: 3(n-1)2 | D48: =3*(D41^2) -> 972
C49: (n-2)(n-3) | D49: =D42*D43 -> 272
...

Sheet Group Task 2b
F1: SKEWNESS | I1: KURTOSIS
C2: ='Data - Group Task 2'!C2 -> Year | D2: ='Data - Group Task 2'!D2 -> Return | E2: r-r̄ | F2: (r-r̄)/σ | G2: [(r-r̄)/σ]3 | I2: [(r-r̄)/σ]4
C3: ='Data - Group Task 2'!C3 -> 2004 | D3: ='Data - Group Task 2'!D3 -> 40.996138 | E3: =D3-$D$24 -> 24.030577 | F3: =E3/$D$25 -> 1.1062117 | G3: =F3^3 -> 1.3536761 | I3: =F3^4 -> 1.4974523
C4: ='Data - Group Task 2'!C4 -> 2005 | D4: ='Data - Group Task 2'!D4 -> 41.266559 | E4: =D4-$D$24 -> 24.300997 | F4: =E4/$D$25 -> 1.1186601 | G4: =F4^3 -> 1.3998917 | I4: =F4^4 -> 1.566003
C5: ='Data - Group Task 2'!C5 -> 2006 | D5: ='Data - Group Task 2'!D5 -> 50.031653 | E5: =D5-$D$24 -> 33.066091 | F5: =E5/$D$25 -> 1.5221481 | G5: =F5^3 -> 3.5267182 | I5: =F5^4 -> 5.3681875
C6: ='Data - Group Task 2'!C6 -> 2007 | D6: ='Data - Group Task 2'!D6 -> 28.365727 | E6: =D6-$D$24 -> 11.400165 | F6: =E6/$D$25 -> 0.52478958 | G6: =F6^3 -> 0.1445292 | I6: =F6^4 -> 0.07584742
C7: ='Data - Group Task 2'!C7 -> 2008 | D7: ='Data - Group Task 2'!D7 -> 26.520801 | E7: =D7-$D$24 -> 9.5552395 | F7: =E7/$D$25 -> 0.43986118 | G7: =F7^3 -> 0.085103398 | I7: =F7^4 -> 0.037433681
C8: ='Data - Group Task 2'!C8 -> 2009 | D8: ='Data - Group Task 2'!D8 -> -4.4686932 | E8: =D8-$D$24 -> -21.434255 | F8: =E8/$D$25 -> -0.98669392 | G8: =F8^3 -> -0.96061055 | I8: =F8^4 -> 0.94782859
C9: ='Data - Group Task 2'!C9 -> 2010 | D9: ='Data - Group Task 2'!D9 -> 14.067174 | E9: =D9-$D$24 -> -2.8983874 | F9: =E9/$D$25 -> -0.13342294 | G9: =F9^3 -> -0.0023751525 | I9: =F9^4 -> 0.00031689982
C10: ='Data - Group Task 2'!C10 -> 2011 | D10: ='Data - Group Task 2'!D10 -> 30.079871 | E10: =D10-$D$24 -> 13.114309 | F10: =E10/$D$25 -> 0.60369765 | G10: =F10^3 -> 0.22001813 | I10: =F10^4 -> 0.13282443
C11: ='Data - Group Task 2'!C11 -> 2012 | D11: ='Data - Group Task 2'!D11 -> 8.5401058 | E11: =D11-$D$24 -> -8.4254559 | F11: =E11/$D$25 -> -0.38785328 | G11: =F11^3 -> -0.058344834 | I11: =F11^4 -> 0.022629235
C12: ='Data - Group Task 2'!C12 -> 2013 | D12: ='Data - Group Task 2'!D12 -> 35.881117 | E12: =D12-$D$24 -> 18.915556 | F12: =E12/$D$25 -> 0.87074936 | G12: =F12^3 -> 0.66020604 | I12: =F12^4 -> 0.57487398
C13: ='Data - Group Task 2'!C13 -> 2014 | D13: ='Data - Group Task 2'!D13 -> 8.391717 | E13: =D13-$D$24 -> -8.5738448 | F13: =E13/$D$25 -> -0.39468414 | G13: =F13^3 -> -0.061482147 | I13: =F13^4 -> 0.024266028
C14: ='Data - Group Task 2'!C14 -> 2015 | D14: ='Data - Group Task 2'!D14 -> 26.644214 | E14: =D14-$D$24 -> 9.6786518 | F14: =E14/$D$25 -> 0.44554228 | G14: =F14^3 -> 0.088443673 | I14: =F14^4 -> 0.039405396
... C21: ='Data - Group Task 2'!C21 -> 2022 | D21: ='Data - Group Task 2'!D21 -> 38.516404 | E21: =D21-$D$24 -> 21.550842 | F21: =E21/$D$25 -> 0.99206084 | G21: =F21^3 -> 0.9763711 | I21: =F21^4 -> 0.96861954
C23: SKEWNESS:
C24: Average (r̄) | D24: =AVERAGE(D3:D21) -> 16.965562
C25: Population Standard Deviation (σ) | D25: =_xlfn.STDEV.P(D3:D21) -> 21.723307
C26: N | D26: =COUNT(D3:D21) -> 19
C27: ∑[(r-r̄)/σ]3 | D27: =SUM(G3:G21) -> -13.694227
C28: Population Skewness | D28: =(1/D26)*D27 -> -0.72074881
C29: Population Skewness (using excel) | D29: =_xlfn.SKEW.P(D3:D21) -> -0.72074881
C31: KURTOSIS:
C32: Average (r̄) | D32: =AVERAGE(D3:D21) -> 16.965562
C33: Population Standard Deviation (σ) | D33: =_xlfn.STDEV.P(D3:D21) -> 21.723307
C34: N | D34: =COUNT(D3:D21) -> 19
C35: ∑[(r-r̄)/σ]4 | D35: =SUM(I3:I21) -> 57.277242
C36: Population kurtosis | D36: =D35/D34 -> 3.0145917
C38: JARQUE BERA TEST
C39: Skewness (S) | D39: =D28 -> -0.72074881
C40: Kurtosis (K-3) | D40: =D36-3 -> 0.014591703 | E40: <- Note that the formula used for the population kurtosis does not automatically subtract 3. So subtract 3 here.
C41: N | D41: =D34 -> 19
C42: S2 | D42: =D39^2 -> 0.51947885
C43: (K-3)2 | D43: =D40^2 -> 0.0002129178
C44: S2/6 | D44: =D42/6 -> 0.086579808
C45: (K-3)2/24 | D45: =D43/24 -> 8.8715751e-06
C47: JB | D47: =D41*(D44+D45) -> 1.6451849
C49: Statistical Significance of JB Statistic - Approach 1
E50: Conclusion
C51: Chi-square critical value at 1% | D51: =_xlfn.CHISQ.INV.RT(0.01,2) -> 9.2103404 | E51: =IF(D51>$D$47,"Data is normally distributed","Data is not normally distributed") -> Data is normally distributed
...
